Workbook

Sheet toelichting kostensoorten
A1: Uitleg posten Begroting PPS subsidie
A3: Algemeen
A4: Binnen deze oproep kan PPS-subsidie uitsluitend worden ingezet voor activiteiten die kwalificeren als industrieel onderzoek.
A5: Voor meer informatie: | D5: https://www.rvo.nl/subsidie-en-financieringswijzer/subsidiespelregels/ministeries/ministerie-van-economische-zaken-en-klimaat | AC5: ja
AC6: nee
A7: Personeelskosten - drie manieren van berekenen voor partijen die financiering ontvangen
A8: Voor berekenen van de personeelskostn zijn de opties uit het Kaderbesluit van toepassing
A9: 1. Integrale kostensystematiek (artikel 12 van het Kaderbesluit Nationale EZ-subsidies)
A10: Deze methode is vooral geschikt voor grote organisaties die regelmatig subsidie bij RVO aanvragen.
A11: De IKS methode dient goedgekeurd te zijn door RvO.
A13: 2. Loonkosten + 50% opslag systematiek, (artikel 13 van het Kaderbesluit Nationale EZ-subsidies);
A14: De directe loonkosten van projectmedewerkers wordt opgevoerd en vermeerderd met 50% opslag.
A15: Directe kosten bestaan uit de direct toerekenbare kosten aan de medewerker die het onderzoek uitvoert zoals bruto salaris, werkgeverslasten, pensioen
A16: lasten, bonussen (mist vastgelegd in de arbeidsovereenkomst), etc.
A17: De jaarkosten worden door 1650 uren gedeeld om het uurtarief te krijgen
A18: 3. Vast uurtarief van €60,00 (artikel 14 van het Kaderbesluit Nationale EZ-subsidies).
A19: Een vast uurtarief van € 60,00 per uur.
... A57: De volgende kosten zijn in ieder geval niet subsidiabel:
A58: l | B58: Kosten accountant om de controleverklaring op te stellen.
A59: l | B59: Kosten voor (administratief) projectmanagement, zoals voortgang monitoring, contracten opstellen tussen samenwerkingspartijen, de voortgangs-
B60: rapportages voor RVO, planning, budgettering, escaleren naar stuurgroep, projectbesturing, projectbewaking.
A61: l | B61: Kosten voor binnenlandse reiskosten.
A62: l | B62: Kosten voor kennisverspreidingsactiviteiten, omdat kennisverspreiding niet past binnen de definitie van onderzoek en ontwikkeling. In een aantal
B63: TSE-subsidiemodules is onvoldoende kennisverspreiding overigens wel een afwijzingsgrond of een reden om lager te scoren op de rangschikkingscriteria.

Sheet steunintensiteitspercentage
A1: Overzicht van de maximale steunintensiteit
A4: BIJ PPS-Innovatiesubsidie
A5: Steunintensiteitspercentage voor MKB (midden- en kleinbedrijf) | H5: 0.6
A7: Steunintensiteitspercentage voor onderzoeksorganisaties | H7: 0.8
A9: Steunintensiteitspercentage voor kennisintensieve bedrijven | H9: 0.5
A12: Binnen deze oproep kan PPS-subsidie uitsluitend worden ingezet voor activiteiten die kwalificeren als industrieel onderzoek.
A14: MKB-partners die PPS-subsidie ontvangen dienen een geldige MKB-verklaring aan te leveren.
A16: Buitenlandse partners komen niet in aanmerking voor PPS-subsidie, maar kunnen wel deelnemen aan het consortium.

Sheet samenvatting partners
A1: Projectcode: | B1: =deelnemers!B2 -> invullen als beschikbaar
A2: Projecttitel: | B2: =deelnemers!B3 -> 0 | D2: kosten | H2: publiek/privaat | J2: financiering
P3: Tabel voor beschikkingsbrief
A4: Partner nummer | B4: Partner | C4: Type onderneming | D4: Jaar 2027 | E4: Jaar 2028 | F4: Jaar 2029 | G4: Totaal kosten | H4: 2 | I4: Type bijdrage | J4: 2027 | K4: 2028 | L4: 2029 | M4: Totaal financiering
A5: ='kosten penvoerder'!A9 -> Penvoerder | B5: ='kosten penvoerder'!B9 -> 0 | C5: ='kosten penvoerder'!C9 -> MKB (midden en klein bedrijf) | D5: ='kosten penvoerder'!C48 -> 0 | E5: ='kosten penvoerder'!D48 -> 0 | F5: ='kosten penvoerder'!E48 -> 0 | G5: ='kosten penvoerder'!F48 -> 0 | H5: =IF(H4=1,"publiek","privaat") -> privaat | I5: cash | J5: ='kosten penvoerder'!C54 -> 0 | K5: ='kosten penvoerder'!D54 -> 0 | L5: ='kosten penvoerder'!E54 -> 0 | M5: =SUM(J5:L5) -> 0 | P5: Uitgaven
A6: ='kosten penvoerder'!H62 | B6: =B5 -> 0 | H6: =H5 -> privaat | I6: PPS toeslag | J6: ='kosten penvoerder'!C53 -> 0 | K6: ='kosten penvoerder'!D53 -> 0 | L6: ='kosten penvoerder'!E53 -> 0 | M6: ='kosten penvoerder'!F53 -> 0 | P6: 1. Loonkosten/arbeidskosten | Q6: =SUM('Startblad totalen:Eindblad totalen'!F25) -> 0
B7: =B6 -> 0 | H7: =H6 -> privaat | P7: 2. Afschrijvingskosten van machines en apparatuur | Q7: =SUM('Startblad totalen:Eindblad totalen'!F31) -> 0
B8: =B7 -> 0 | H8: =H7 -> privaat | I8: in kind | J8: ='kosten penvoerder'!C55 -> 0 | K8: ='kosten penvoerder'!D55 -> 0 | L8: ='kosten penvoerder'!E55 -> 0 | M8: ='kosten penvoerder'!F55 -> 0 | P8: 3, Materialen en hulpmiddelenTotaal overige kosten | Q8: =SUM('Startblad totalen:Eindblad totalen'!F46) -> 0
B9: =B8 -> 0 | H9: =H8 -> privaat | I9: eigen bijdrage | J9: ='kosten penvoerder'!C60 -> 0 | K9: ='kosten penvoerder'!D60 -> 0 | L9: ='kosten penvoerder'!E60 -> 0 | M9: ='kosten penvoerder'!F60 -> 0
A10: =A11 -> partner 1 | B10: =B11 -> 0 | H10: =SUMIF(deelnemers!AJ$16:AJ$28,'samenvatting partners'!C11,deelnemers!AM$16:AM$28) -> 0 | P10: Totaal uitgaven | Q10: =SUM(Q6:Q8) -> 0
A11: ='kosten partner 1'!A9 -> partner 1 | B11: ='kosten partner 1'!B9 -> 0 | C11: ='kosten partner 1'!C9 -> 0 | D11: ='kosten partner 1'!C48 -> 0 | E11: ='kosten partner 1'!D48 -> 0 | F11: ='kosten partner 1'!E48 -> 0 | G11: ='kosten partner 1'!F48 -> 0 | H11: =IF(H10=1,"publiek","privaat") -> privaat | I11: cash | J11: ='kosten partner 1'!C54 -> 0 | K11: ='kosten partner 1'!D54 -> 0 | L11: ='kosten partner 1'!E54 -> 0 | M11: =SUM(J11:L11) -> 0
A12: ='kosten partner 1'!H62 | B12: =B11 -> 0 | H12: =H11 -> privaat | I12: PPS toeslag | J12: ='kosten partner 1'!C53 -> 0 | K12: ='kosten partner 1'!D53 -> 0 | L12: ='kosten partner 1'!E53 -> 0 | M12: =SUM(J12:L12) -> 0 | P12: Financiering
B13: =B12 -> 0 | H13: =H12 -> privaat | P13: Bijdrage uit het PPS programma TKI Agri&Food | Q13: =SUM('Startblad totalen:Eindblad totalen'!F53) -> 0
B14: =B13 -> 0 | H14: =H13 -> privaat | I14: in kind | J14: ='kosten partner 1'!C55 -> 0 | K14: ='kosten partner 1'!D55 -> 0 | L14: ='kosten partner 1'!E55 -> 0 | M14: =SUM(J14:L14) -> 0 | P14: Overige subsidies
B15: =B14 -> 0 | H15: =H14 -> privaat | I15: eigen bijdrage | J15: ='kosten partner 1'!C60 -> 0 | K15: ='kosten partner 1'!D60 -> 0 | L15: ='kosten partner 1'!E60 -> 0 | M15: =SUM(J15:L15) -> 0 | P15: EU
A16: =A17 -> partner 2 | B16: =B17 -> 0 | H16: =SUMIF(deelnemers!AJ$16:AJ$28,'samenvatting partners'!C17,deelnemers!AM$16:AM$28) -> 0 | P16: Rijk (WR/TO2 capaciteit) | Q16: 0
A17: ='kosten partner 2'!A9 -> partner 2 | B17: ='kosten partner 2'!B9 -> 0 | C17: ='kosten partner 2'!C9 -> 0 | D17: ='kosten partner 2'!C48 -> 0 | E17: ='kosten partner 2'!D48 -> 0 | F17: ='kosten partner 2'!E48 -> 0 | G17: ='kosten partner 2'!F48 -> 0 | H17: =IF(H16=1,"publiek","privaat") -> privaat | I17: cash | J17: ='kosten partner 2'!C54 -> 0 | K17: ='kosten partner 2'!D54 -> 0 | L17: ='kosten partner 2'!E54 -> 0 | M17: =SUM(J17:L17) -> 0 | P17: Cash | Q17: =SUM('Startblad totalen:Eindblad totalen'!F54) -> 0
A18: ='kosten partner 2'!H62 | B18: =B17 -> 0 | H18: =H17 -> privaat | I18: PPS toeslag | J18: ='kosten partner 2'!C53 -> 0 | K18: ='kosten partner 2'!D53 -> 0 | L18: ='kosten partner 2'!E53 -> 0 | M18: =SUM(J18:L18) -> 0 | P18: In kind | Q18: =SUM('Startblad totalen:Eindblad totalen'!F55) -> 0
B19: =B18 -> 0 | H19: =H18 -> privaat | P19: Eigen bijdrage deelnemers | Q19: =SUM('Startblad totalen:Eindblad totalen'!F60) -> 0
B20: =B19 -> 0 | H20: =H19 -> privaat | I20: in kind | J20: ='kosten partner 2'!C55 -> 0 | K20: ='kosten partner 2'!D55 -> 0 | L20: ='kosten partner 2'!E55 -> 0 | M20: =SUM(J20:L20) -> 0 | P20: Totale financiering | Q20: =SUM(Q13:Q19) -> 0
B21: =B20 -> 0 | H21: =H20 -> privaat | I21: eigen bijdrage | J21: ='kosten partner 2'!C60 -> 0 | K21: ='kosten partner 2'!D60 -> 0 | L21: ='kosten partner 2'!E60 -> 0 | M21: =SUM(J21:L21) -> 0
A22: =A23 -> partner 3 | B22: =B23 -> 0 | H22: =SUMIF(deelnemers!AJ$16:AJ$28,'samenvatting partners'!C23,deelnemers!AM$16:AM$28) -> 0 | P22: Verschil uitgaven / financiering | Q22: =Q10-Q20 -> 0
A23: ='kosten partner 3'!A9 -> partner 3 | B23: ='kosten partner 3'!B9 -> 0 | C23: ='kosten partner 3'!C9 -> 0 | D23: ='kosten partner 3'!C48 -> 0 | E23: ='kosten partner 3'!D48 -> 0 | F23: ='kosten partner 3'!E48 -> 0 | G23: ='kosten partner 3'!F48 -> 0 | H23: =IF(H22=1,"publiek","privaat") -> privaat | I23: cash | J23: ='kosten partner 3'!C54 -> 0 | K23: ='kosten partner 3'!D54 -> 0 | L23: ='kosten partner 3'!E54 -> 0 | M23: ='kosten partner 3'!F54 -> 0
A24: ='kosten partner 3'!H62 | B24: =B23 -> 0 | H24: =H23 -> privaat | I24: PPS toeslag | J24: ='kosten partner 3'!C53 -> 0 | K24: ='kosten partner 3'!D53 -> 0 | L24: ='kosten partner 3'!E53 -> 0 | M24: ='kosten partner 3'!F53 -> 0
B25: =B24 -> 0 | H25: =H24 -> privaat | P25: Controle
B26: =B25 -> 0 | H26: =H25 -> privaat | I26: in kind | J26: ='kosten partner 3'!C55 -> 0 | K26: ='kosten partner 3'!D55 -> 0 | L26: ='kosten partner 3'!E55 -> 0 | M26: ='kosten partner 3'!F55 -> 0
B27: =B26 -> 0 | H27: =H26 -> privaat | I27: eigen bijdrage | J27: ='kosten partner 3'!C60 -> 0 | K27: ='kosten partner 3'!D60 -> 0 | L27: ='kosten partner 3'!E60 -> 0 | M27: =SUM(J27:L27) -> 0 | P27: Totale cash uit tabblad cash bijdragen | Q27: =' cash bijdrage'!F37 -> 0
A28: =A29 -> partner 4 | B28: =B29 -> 0 | H28: =SUMIF(deelnemers!AJ$16:AJ$28,'samenvatting partners'!C29,deelnemers!AM$16:AM$28) -> 0 | P28: Totale cash uit tabbladen partners financiering | Q28: =SUM('Startblad totalen:Eindblad totalen'!F54) -> 0
A29: ='kosten partner 4'!A9 -> partner 4 | B29: ='kosten partner 4'!B9 -> 0 | C29: ='kosten partner 4'!C9 -> 0 | D29: ='kosten partner 4'!C48 -> 0 | E29: ='kosten partner 4'!D48 -> 0 | F29: ='kosten partner 4'!E48 -> 0 | G29: ='kosten partner 4'!F48 -> 0 | H29: =IF(H28=1,"publiek","privaat") -> privaat | I29: cash | J29: ='kosten partner 4'!C54 -> 0 | K29: ='kosten partner 4'!D54 -> 0 | L29: ='kosten partner 4'!E54 -> 0 | M29: ='kosten partner 4'!F54 -> 0 | P29: Verschil | Q29: =Q27-Q28 -> 0
A30: ='kosten partner 4'!H62 | B30: =B29 -> 0 | H30: =H29 -> privaat | I30: PPS toeslag | J30: ='kosten partner 4'!C53 -> 0 | K30: ='kosten partner 4'!D53 -> 0 | L30: ='kosten partner 4'!E53 -> 0 | M30: ='kosten partner 4'!F53 -> 0
B31: =B30 -> 0 | H31: =H30 -> privaat
B32: =B31 -> 0 | H32: =H31 -> privaat | I32: in kind | J32: ='kosten partner 4'!C55 -> 0 | K32: ='kosten partner 4'!D55 -> 0 | L32: ='kosten partner 4'!E55 -> 0 | M32: ='kosten partner 4'!F55 -> 0
B33: =B32 -> 0 | H33: =H32 -> privaat | I33: eigen bijdrage | J33: ='kosten partner 4'!C60 -> 0 | K33: ='kosten partner 4'!D60 -> 0 | L33: ='kosten partner 4'!E60 -> 0 | M33: =SUM(J33:L33) -> 0
A34: =A35 -> partner 5 | B34: =B35 -> 0 | H34: =SUMIF(deelnemers!AJ$16:AJ$28,'samenvatting partners'!C35,deelnemers!AM$16:AM$28) -> 0
A35: =' kosten partner 5'!A9 -> partner 5 | B35: =' kosten partner 5'!B9 -> 0 | C35: =' kosten partner 5'!C9 -> 0 | D35: =' kosten partner 5'!C48 -> 0 | E35: =' kosten partner 5'!D48 -> 0 | F35: =' kosten partner 5'!E48 -> 0 | G35: =' kosten partner 5'!F48 -> 0 | H35: =IF(H34=1,"publiek","privaat") -> privaat | I35: cash | J35: =' kosten partner 5'!C54 -> 0 | K35: =' kosten partner 5'!D54 -> 0 | L35: =' kosten partner 5'!E54 -> 0 | M35: =' kosten partner 5'!F54 -> 0
A36: =' kosten partner 5'!H62 | B36: =B35 -> 0 | H36: =H35 -> privaat | I36: PPS toeslag | J36: =' kosten partner 5'!C53 -> 0 | K36: =' kosten partner 5'!D53 -> 0 | L36: =' kosten partner 5'!E53 -> 0 | M36: =' kosten partner 5'!F53 -> 0
B37: =B36 -> 0 | H37: =H36 -> privaat
B38: =B37 -> 0 | H38: =H37 -> privaat | I38: in kind | J38: =' kosten partner 5'!C55 -> 0 | K38: =' kosten partner 5'!D55 -> 0 | L38: =' kosten partner 5'!E55 -> 0 | M38: =' kosten partner 5'!F55 -> 0
B39: =B38 -> 0 | H39: =H38 -> privaat | I39: eigen bijdrage | J39: =' kosten partner 5'!C60 -> 0 | K39: =' kosten partner 5'!D60 -> 0 | L39: =' kosten partner 5'!E60 -> 0 | M39: =SUM(J39:L39) -> 0
A40: =A41 -> partner 6 | B40: =B41 -> 0 | H40: =SUMIF(deelnemers!AJ$16:AJ$28,'samenvatting partners'!C41,deelnemers!AM$16:AM$28) -> 0 | P40: PPS naar MKB | Q40: =SUM('Startblad totalen:Eindblad totalen'!F1) -> 0
A41: =' kosten partner 6'!A9 -> partner 6 | B41: =' kosten partner 6'!B9 -> 0 | C41: =' kosten partner 6'!C9 -> 0 | D41: =' kosten partner 6'!C48 -> 0 | E41: =' kosten partner 6'!D48 -> 0 | F41: =' kosten partner 6'!E48 -> 0 | G41: =' kosten partner 6'!F48 -> 0 | H41: =IF(H40=1,"publiek","privaat") -> privaat | I41: cash | J41: =' kosten partner 6'!C54 -> 0 | K41: =' kosten partner 6'!D54 -> 0 | L41: =' kosten partner 6'!E54 -> 0 | M41: =' kosten partner 6'!F54 -> 0
A42: =' kosten partner 6'!H62 | B42: =B41 -> 0 | H42: =H41 -> privaat | I42: PPS toeslag | J42: =' kosten partner 6'!C53 -> 0 | K42: =' kosten partner 6'!D53 -> 0 | L42: =' kosten partner 6'!E53 -> 0 | M42: =' kosten partner 6'!F53 -> 0
B43: =B42 -> 0 | H43: =H42 -> privaat
B44: =B43 -> 0 | H44: =H43 -> privaat | I44: in kind | J44: =' kosten partner 6'!C55 -> 0 | K44: =' kosten partner 6'!D55 -> 0 | L44: =' kosten partner 6'!E55 -> 0 | M44: =' kosten partner 6'!F55 -> 0
B45: =B44 -> 0 | H45: =H44 -> privaat | I45: eigen bijdrage | J45: =' kosten partner 6'!C60 -> 0 | K45: =' kosten partner 6'!D60 -> 0 | L45: =' kosten partner 6'!E60 -> 0 | M45: =SUM(J45:L45) -> 0
A46: =A47 -> partner 7 | B46: =B47 -> 0 | H46: =SUMIF(deelnemers!AJ$16:AJ$28,'samenvatting partners'!C47,deelnemers!AM$16:AM$28) -> 0
A47: =' kosten partner 7'!A9 -> partner 7 | B47: =' kosten partner 7'!B9 -> 0 | C47: =' kosten partner 7'!C9 -> 0 | D47: =' kosten partner 7'!C48 -> 0 | E47: =' kosten partner 7'!D48 -> 0 | F47: =' kosten partner 7'!E48 -> 0 | G47: =' kosten partner 7'!F48 -> 0 | H47: =IF(H46=1,"publiek","privaat") -> privaat | I47: cash | J47: =' kosten partner 7'!C54 -> 0 | K47: =' kosten partner 7'!D54 -> 0 | L47: =' kosten partner 7'!E54 -> 0 | M47: =' kosten partner 7'!F54 -> 0
A48: =' kosten partner 7'!H62 | B48: =B47 -> 0 | H48: =H47 -> privaat | I48: PPS toeslag | J48: =' kosten partner 7'!C53 -> 0 | K48: =' kosten partner 7'!D53 -> 0 | L48: =' kosten partner 7'!E53 -> 0 | M48: =' kosten partner 7'!F53 -> 0
B49: =B48 -> 0 | H49: =H48 -> privaat
B50: =B49 -> 0 | H50: =H49 -> privaat | I50: in kind | J50: =' kosten partner 7'!C55 -> 0 | K50: =' kosten partner 7'!D55 -> 0 | L50: =' kosten partner 7'!E55 -> 0 | M50: =' kosten partner 7'!F55 -> 0
B51: =B50 -> 0 | H51: =H50 -> privaat | I51: eigen bijdrage | J51: =' kosten partner 7'!C60 -> 0 | K51: =' kosten partner 7'!D60 -> 0 | L51: =' kosten partner 7'!E60 -> 0 | M51: =SUM(J51:L51) -> 0
A52: =A53 -> partner 8 | B52: =B53 -> 0 | H52: =SUMIF(deelnemers!AJ$16:AJ$28,'samenvatting partners'!C53,deelnemers!AM$16:AM$28) -> 0
A53: =' kosten partner 8'!A9 -> partner 8 | B53: =' kosten partner 8'!B9 -> 0 | C53: =' kosten partner 8'!C9 -> 0 | D53: =' kosten partner 8'!C48 -> 0 | E53: =' kosten partner 8'!D48 -> 0 | F53: =' kosten partner 8'!E48 -> 0 | G53: =' kosten partner 8'!F48 -> 0 | H53: =IF(H52=1,"publiek","privaat") -> privaat | I53: cash | J53: =' kosten partner 8'!C54 -> 0 | K53: =' kosten partner 8'!D54 -> 0 | L53: =' kosten partner 8'!E54 -> 0 | M53: =' kosten partner 8'!F54 -> 0
A54: =' kosten partner 8'!H62 | B54: =B53 -> 0 | H54: =H53 -> privaat | I54: PPS toeslag | J54: =' kosten partner 8'!C53 -> 0 | K54: =' kosten partner 8'!D53 -> 0 | L54: =' kosten partner 8'!E53 -> 0 | M54: =' kosten partner 8'!F53 -> 0
B55: =B54 -> 0 | H55: =H54 -> privaat
B56: =B55 -> 0 | H56: =H55 -> privaat | I56: in kind | J56: =' kosten partner 8'!C55 -> 0 | K56: =' kosten partner 8'!D55 -> 0 | L56: =' kosten partner 8'!E55 -> 0 | M56: =' kosten partner 8'!F55 -> 0
B57: =B56 -> 0 | H57: =H56 -> privaat | I57: eigen bijdrage | J57: =' kosten partner 8'!C60 -> 0 | K57: =' kosten partner 8'!D60 -> 0 | L57: =' kosten partner 8'!E60 -> 0 | M57: =SUM(J57:L57) -> 0
A58: =A59 -> partner 9 | B58: =B59 -> 0 | H58: =SUMIF(deelnemers!AJ$16:AJ$28,'samenvatting partners'!C59,deelnemers!AM$16:AM$28) -> 0
A59: =' kosten partner 9'!A9 -> partner 9 | B59: =' kosten partner 9'!B9 -> 0 | C59: =' kosten partner 9'!C9 -> 0 | D59: =' kosten partner 9'!C48 -> 0 | E59: =' kosten partner 9'!D48 -> 0 | F59: =' kosten partner 9'!E48 -> 0 | G59: =' kosten partner 9'!F48 -> 0 | H59: =IF(H58=1,"publiek","privaat") -> privaat | I59: cash | J59: =' kosten partner 9'!C54 -> 0 | K59: =' kosten partner 9'!D54 -> 0 | L59: =' kosten partner 9'!E54 -> 0 | M59: =' kosten partner 9'!F54 -> 0
A60: =' kosten partner 9'!H62 | B60: =B59 -> 0 | H60: =H59 -> privaat | I60: PPS toeslag | J60: =' kosten partner 9'!C53 -> 0 | K60: =' kosten partner 9'!D53 -> 0 | L60: =' kosten partner 9'!E53 -> 0 | M60: =' kosten partner 9'!F53 -> 0
B61: =B60 -> 0 | H61: =H60 -> privaat
B62: =B61 -> 0 | H62: =H61 -> privaat | I62: in kind | J62: =' kosten partner 9'!C55 -> 0 | K62: =' kosten partner 9'!D55 -> 0 | L62: =' kosten partner 9'!E55 -> 0 | M62: =' kosten partner 9'!F55 -> 0
B63: =B62 -> 0 | H63: =H62 -> privaat | I63: eigen bijdrage | J63: =' kosten partner 9'!C60 -> 0 | K63: =' kosten partner 9'!D60 -> 0 | L63: =' kosten partner 9'!E60 -> 0 | M63: =SUM(J63:L63) -> 0
A64: =A65 -> partner 10 | B64: =B65 -> 0 | H64: =SUMIF(deelnemers!AJ$16:AJ$28,'samenvatting partners'!C65,deelnemers!AM$16:AM$28) -> 0
A65: =' kosten partner 10'!A9 -> partner 10 | B65: =' kosten partner 10'!B9 -> 0 | C65: =' kosten partner 10'!C9 -> 0 | D65: =' kosten partner 10'!C48 -> 0 | E65: =' kosten partner 10'!D48 -> 0 | F65: =' kosten partner 10'!E48 -> 0 | G65: =' kosten partner 10'!F48 -> 0 | H65: =IF(H64=1,"publiek","privaat") -> privaat | I65: cash | J65: =' kosten partner 10'!C54 -> 0 | K65: =' kosten partner 10'!D54 -> 0 | L65: =' kosten partner 10'!E54 -> 0 | M65: =' kosten partner 10'!F54 -> 0
A66: =' kosten partner 10'!H62 | B66: =B65 -> 0 | H66: =H65 -> privaat | I66: PPS toeslag | J66: =' kosten partner 10'!C53 -> 0 | K66: =' kosten partner 10'!D53 -> 0 | L66: =' kosten partner 10'!E53 -> 0 | M66: =' kosten partner 10'!F53 -> 0
B67: =B66 -> 0 | H67: =H66 -> privaat
B68: =B67 -> 0 | H68: =H67 -> privaat | I68: in kind | J68: =' kosten partner 10'!C55 -> 0 | K68: =' kosten partner 10'!D55 -> 0 | L68: =' kosten partner 10'!E55 -> 0 | M68: =' kosten partner 10'!F55 -> 0
B69: =B68 -> 0 | H69: =H68 -> privaat | I69: eigen bijdrage | J69: =' kosten partner 10'!C60 -> 0 | K69: =' kosten partner 10'!D60 -> 0 | L69: =' kosten partner 10'!E60 -> 0 | M69: =SUM(J69:L69) -> 0
A70: =A71 -> partner 11 | B70: =B71 -> 0 | H70: =SUMIF(deelnemers!AJ$16:AJ$28,'samenvatting partners'!C71,deelnemers!AM$16:AM$28) -> 0
A71: ='kosten partner 11'!A9 -> partner 11 | B71: ='kosten partner 11'!B9 -> 0 | C71: ='kosten partner 11'!C9 -> 0 | D71: ='kosten partner 11'!C48 -> 0 | E71: ='kosten partner 11'!D48 -> 0 | F71: ='kosten partner 11'!E48 -> 0 | G71: ='kosten partner 11'!F48 -> 0 | H71: =IF(H70=1,"publiek","privaat") -> privaat | I71: cash | J71: ='kosten partner 11'!C54 -> 0 | K71: ='kosten partner 11'!D54 -> 0 | L71: ='kosten partner 11'!E54 -> 0 | M71: ='kosten partner 11'!F54 -> 0
A72: ='kosten partner 11'!H62 | B72: =B71 -> 0 | H72: =H71 -> privaat | I72: PPS toeslag | J72: ='kosten partner 11'!C53 -> 0 | K72: ='kosten partner 11'!D53 -> 0 | L72: ='kosten partner 11'!E53 -> 0 | M72: ='kosten partner 11'!F53 -> 0
B73: =B72 -> 0 | H73: =H72 -> privaat
B74: =B73 -> 0 | H74: =H73 -> privaat | I74: in kind | J74: ='kosten partner 11'!C55 -> 0 | K74: ='kosten partner 11'!D55 -> 0 | L74: ='kosten partner 11'!E55 -> 0 | M74: ='kosten partner 11'!F55 -> 0
B75: =B74 -> 0 | H75: =H74 -> privaat | I75: eigen bijdrage | J75: ='kosten partner 11'!C60 -> 0 | K75: ='kosten partner 11'!D60 -> 0 | L75: ='kosten partner 11'!E60 -> 0 | M75: =SUM(J75:L75) -> 0
A76: =A77 -> partner 12 | B76: =B77 -> 0 | H76: =SUMIF(deelnemers!AJ$16:AJ$28,'samenvatting partners'!C77,deelnemers!AM$16:AM$28) -> 0
A77: ='kosten partner 12'!A9 -> partner 12 | B77: ='kosten partner 12'!B9 -> 0 | C77: ='kosten partner 12'!C9 -> 0 | D77: ='kosten partner 12'!C48 -> 0 | E77: ='kosten partner 12'!D48 -> 0 | F77: ='kosten partner 12'!E48 -> 0 | G77: ='kosten partner 12'!F48 -> 0 | H77: =IF(H76=1,"publiek","privaat") -> privaat | I77: cash | J77: ='kosten partner 12'!C54 -> 0 | K77: ='kosten partner 12'!D54 -> 0 | L77: ='kosten partner 12'!E54 -> 0 | M77: ='kosten partner 12'!F54 -> 0
A78: ='kosten partner 12'!H62 | B78: =B77 -> 0 | H78: =H77 -> privaat | I78: PPS toeslag | J78: ='kosten partner 12'!C53 -> 0 | K78: ='kosten partner 12'!D53 -> 0 | L78: ='kosten partner 12'!E53 -> 0 | M78: ='kosten partner 12'!F53 -> 0
B79: =B78 -> 0 | H79: =H78 -> privaat
B80: =B79 -> 0 | H80: =H79 -> privaat | I80: in kind | J80: ='kosten partner 12'!C55 -> 0 | K80: ='kosten partner 12'!D55 -> 0 | L80: ='kosten partner 12'!E55 -> 0 | M80: ='kosten partner 12'!F55 -> 0
B81: =B80 -> 0 | H81: =H80 -> privaat | I81: eigen bijdrage | J81: ='kosten partner 12'!C60 -> 0 | K81: ='kosten partner 12'!D60 -> 0 | L81: ='kosten partner 12'!E60 -> 0 | M81: =SUM(J81:L81) -> 0
A82: =A83 -> partner 13 | B82: =B83 -> 0 | H82: =SUMIF(deelnemers!AJ$16:AJ$28,'samenvatting partners'!C83,deelnemers!AM$16:AM$28) -> 0
A83: ='kosten partner 13'!A9 -> partner 13 | B83: ='kosten partner 13'!B9 -> 0 | C83: ='kosten partner 13'!C9 -> 0 | D83: ='kosten partner 13'!C48 -> 0 | E83: ='kosten partner 13'!D48 -> 0 | F83: ='kosten partner 13'!E48 -> 0 | G83: ='kosten partner 13'!F48 -> 0 | H83: =IF(H82=1,"publiek","privaat") -> privaat | I83: cash | J83: ='kosten partner 13'!C54 -> 0 | K83: ='kosten partner 13'!D54 -> 0 | L83: ='kosten partner 13'!E54 -> 0 | M83: ='kosten partner 13'!F54 -> 0
A84: ='kosten partner 13'!H62 | B84: =B83 -> 0 | H84: =H83 -> privaat | I84: PPS toeslag | J84: ='kosten partner 13'!C53 -> 0 | K84: ='kosten partner 13'!D53 -> 0 | L84: ='kosten partner 13'!E53 -> 0 | M84: ='kosten partner 13'!F53 -> 0
B85: =B84 -> 0 | H85: =H84 -> privaat
B86: =B85 -> 0 | H86: =H85 -> privaat | I86: in kind | J86: ='kosten partner 13'!C55 -> 0 | K86: ='kosten partner 13'!D55 -> 0 | L86: ='kosten partner 13'!E55 -> 0 | M86: ='kosten partner 13'!F55 -> 0
B87: =B86 -> 0 | H87: =H86 -> privaat | I87: eigen bijdrage | J87: ='kosten partner 13'!C60 -> 0 | K87: ='kosten partner 13'!D60 -> 0 | L87: ='kosten partner 13'!E60 -> 0 | M87: =SUM(J87:L87) -> 0
A88: =A89 -> partner 14 | B88: =B89 -> 0 | H88: =SUMIF(deelnemers!AJ$16:AJ$28,'samenvatting partners'!C89,deelnemers!AM$16:AM$28) -> 0
A89: ='kosten partner 14'!A9 -> partner 14 | B89: ='kosten partner 14'!B9 -> 0 | C89: ='kosten partner 14'!C9 -> 0 | D89: ='kosten partner 14'!C48 -> 0 | E89: ='kosten partner 14'!D48 -> 0 | F89: ='kosten partner 14'!E48 -> 0 | G89: ='kosten partner 14'!F48 -> 0 | H89: =IF(H88=1,"publiek","privaat") -> privaat | I89: cash | J89: ='kosten partner 14'!C54 -> 0 | K89: ='kosten partner 14'!D54 -> 0 | L89: ='kosten partner 14'!E54 -> 0 | M89: ='kosten partner 14'!F54 -> 0
A90: ='kosten partner 14'!H62 | B90: =B89 -> 0 | H90: =H89 -> privaat | I90: PPS toeslag | J90: ='kosten partner 14'!C53 -> 0 | K90: ='kosten partner 14'!D53 -> 0 | L90: ='kosten partner 14'!E53 -> 0 | M90: ='kosten partner 14'!F53 -> 0
B91: =B90 -> 0 | H91: =H90 -> privaat
B92: =B91 -> 0 | H92: =H91 -> privaat | I92: in kind | J92: ='kosten partner 14'!C55 -> 0 | K92: ='kosten partner 14'!D55 -> 0 | L92: ='kosten partner 14'!E55 -> 0 | M92: ='kosten partner 14'!F55 -> 0
B93: =B92 -> 0 | H93: =H92 -> privaat | I93: eigen bijdrage | J93: ='kosten partner 14'!C60 -> 0 | K93: ='kosten partner 14'!D60 -> 0 | L93: ='kosten partner 14'!E60 -> 0 | M93: =SUM(J93:L93) -> 0
A94: =A95 -> partner 15 | B94: =B95 -> 0 | H94: =SUMIF(deelnemers!AJ$16:AJ$28,'samenvatting partners'!C95,deelnemers!AM$16:AM$28) -> 0
A95: ='kosten partner 15'!A9 -> partner 15 | B95: ='kosten partner 15'!B9 -> 0 | C95: ='kosten partner 15'!C9 -> 0 | D95: ='kosten partner 15'!C48 -> 0 | E95: ='kosten partner 15'!D48 -> 0 | F95: ='kosten partner 15'!E48 -> 0 | G95: ='kosten partner 15'!F48 -> 0 | H95: =IF(H94=1,"publiek","privaat") -> privaat | I95: cash | J95: ='kosten partner 15'!C54 -> 0 | K95: ='kosten partner 15'!D54 -> 0 | L95: ='kosten partner 15'!E54 -> 0 | M95: ='kosten partner 15'!F54 -> 0
A96: ='kosten partner 15'!H62 | B96: =B95 -> 0 | H96: =H95 -> privaat | I96: PPS toeslag | J96: ='kosten partner 15'!C53 -> 0 | K96: ='kosten partner 15'!D53 -> 0 | L96: ='kosten partner 15'!E53 -> 0 | M96: ='kosten partner 15'!F53 -> 0
B97: =B96 -> 0 | H97: =H96 -> privaat
B98: =B97 -> 0 | H98: =H97 -> privaat | I98: in kind | J98: ='kosten partner 15'!C55 -> 0 | K98: ='kosten partner 15'!D55 -> 0 | L98: ='kosten partner 15'!E55 -> 0 | M98: ='kosten partner 15'!F55 -> 0
B99: =B98 -> 0 | H99: =H98 -> privaat | I99: eigen bijdrage | J99: ='kosten partner 15'!C60 -> 0 | K99: ='kosten partner 15'!D60 -> 0 | L99: ='kosten partner 15'!E60 -> 0 | M99: =SUM(J99:L99) -> 0

Sheet deelnemers
A1: Deelnemers
A2: Projectcode: | B2: invullen als beschikbaar
A3: Projecttitel:
A5: Bij definitieve indiening én financiering met PPS-Innovatiesubsidie:
A6: Geef aan welke partner de voorschotten moet ontvangen, inclusief bankrekeningnummer
A7: Naam partner:
A8: IBAN:
A10: Graag in dit tabblad invullen wie de deelnemers zijn en wat de kenmerken zijn van de deelnemers
A11: Deze gegevens worden overgenomen op de individuele tabbladen voor de deelnemers
C13: let op: listbox, kies één van de opties | D13: let op: listbox, kies één van de opties
A14: Deelnemer | B14: Naam | C14: Type organisatie* | D14: Type onderzoek | E14: kvk nummer*** | F14: BTW plichtig? Ja/nee | G14: methode uurtarief
A15: Penvoerder | C15: MKB (midden en klein bedrijf) | D15: Maak een keuze | AJ15: Type organisatie | AO15: methode uurtarief | AR15: BTW
A16: partner 1 | D16: Maak een keuze | AJ16: onderzoeksorganisatie, publiek | AM16: 1 | AO16: Integrale Kosten Systematiek | AR16: kosten inclusief BTW
A17: partner 2 | D17: Maak een keuze | AJ17: onderzoeksorganisatie, privaat | AM17: 2 | AO17: Loonkosten plus 50% | AR17: kosten exclusief BTW
A18: partner 3 | D18: Maak een keuze | AJ18: innovatieve onderneming | AM18: 2 | AO18: vast tarief van € 60
A19: partner 4 | D19: Maak een keuze | AJ19: Grote onderneming | AM19: 2 | AO19: Uurtarief niet-financiering ontvangers
A20: partner 5 | D20: Maak een keuze | AJ20: MKB (midden en klein bedrijf) | AM20: 2 | AO20: TO2 uurtarief
A21: partner 6 | D21: Maak een keuze | AJ21: Brancheorganisatie | AM21: 2
A22: partner 7 | D22: Maak een keuze | AJ22: Overheid | AM22: 1
A23: partner 8 | D23: Maak een keuze | AJ23: anders, privaat | AM23: 2
A24: partner 9 | D24: Maak een keuze | AJ24: anders, publiek | AM24: 1
A25: partner 10 | D25: Maak een keuze
A26: partner 11 | D26: Maak een keuze | AJ26: (1=publiek, 2=privaat)
A27: partner 12 | D27: Maak een keuze
A28: partner 13 | D28: Maak een keuze
A29: partner 14 | D29: Maak een keuze | AJ29: BTW plichtig
A30: partner 15 | D30: Maak een keuze | AJ30: Ja
D31: Maak een keuze | AJ31: Nee
D32: Maak een keuze
D33: Maak een keuze
D34: Maak een keuze | AJ34: Tyoe onderzoek
A35: *Voor definities onderzoeksorganisatie en innovatieve onderneming, zie RVO website en KIA-website - veelgestelde vragen: | AI35: Maak een keuze
A36: https://www.kia-landbouwwatervoedsel.nl/wp-content/uploads/Q-en-A-pps-call-2024.pdf | AI36: Fundamenteel onderzoek
A37: PPS Innovatie: Definities (rvo.nl) | AI37: Industrieel onderzoek
A38: ** Verplicht in te vullen | AI38: Experimentele ontwikkeling
A39: *** verplicht in te vullen voor NL bedrijven, voor internationale bedrijven vul aub registratienummer in

Sheet kostenoverzicht
A1: Projectnummer: | B1: =IF(deelnemers!B2="invullen als beschikbaar", "wordt overgenomen uit tabblad deelnemers",deelnemers!B2) -> wordt overgenomen uit tabblad deelnemers
A2: Projecttitel: | B2: =IF(deelnemers!B3="altijd invullen","titel invullen op tabblad deelnemers",deelnemers!B3) -> 0
A4: Samenvatting kosten en financiering
A5: Deze tabel kunt u kopiëren naar het projectvoorstel.
A6: Let op: totale kosten en totale financiering zijn aan elkaar gelijk
A7: Deze tabel vult zich vanuit de andere tabbladen. U hoeft niets in te vullen, svp ook niets wijzigen.
A9: Kosten | B9: 2027 | C9: 2028 | D9: 2029 | E9: totaal | H9: controles | W9: subsidie aanvrager
B10: in € | W10: ja
A11: kosten onderzoeksorganisaties | B11: =SUMIF('samenvatting partners'!$C:$C, "onderzoeksorganisatie, publiek",'samenvatting partners'!D:D)+SUMIF('samenvatting partners'!$C:$C, "onderzoeksorganisatie, privaat",'samenvatting partners'!D:D) -> 0 | C11: =SUMIF('samenvatting partners'!$C:$C, "onderzoeksorganisatie, publiek",'samenvatting partners'!E:E)+SUMIF('samenvatting partners'!$C:$C, "onderzoeksorganisatie, privaat",'samenvatting partners'!E:E) -> 0 | D11: =SUMIF('samenvatting partners'!$C:$C, "onderzoeksorganisatie, publiek",'samenvatting partners'!F:F)+SUMIF('samenvatting partners'!$C:$C, "onderzoeksorganisatie, privaat",'samenvatting partners'!F:F) -> 0 | E11: =SUM(B11:D11) -> 0 | H11: =IF(E13=0, "Nog geen projectkosten ingevuld", IF(E13=E29, "✓ Totale kosten zijn gelijk aan totale financiering", "✗ Totale kosten zijn niet gelijk aan totale financiering")) -> Nog geen projectkosten ingevuld | W11: nee
A12: kosten overige partners | B12: =SUM('samenvatting partners'!D5:D10017)-B11 -> 0 | C12: =SUM('samenvatting partners'!E5:E10017)-C11 -> 0 | D12: =SUM('samenvatting partners'!F5:F10017)-D11 -> 0 | E12: =SUM(B12:D12) -> 0 | H12: =IF(E13=0, "Nog geen projectkosten ingevuld",IF(E24<=500000, "✓ PPS-subsidie blijft binnen het maximum van €500.000", "✗ PPS-subsidie overschrijdt het maximum van €500.000")) -> Nog geen projectkosten ingevuld
A13: Totaal kosten | B13: =SUM(B11:B12) -> 0 | C13: =SUM(C11:C12) -> 0 | D13: =SUM(D11:D12) -> 0 | E13: =SUM(E11:E12) -> 0 | H13: =IF(E13=0, "Nog geen projectkosten ingevuld", IF(E24/E13<=70%, "✓ PPS-subsidie bedraagt "&TEXT(E24/E13,"0,0%")&" van de projectkosten (maximum 70%)", "✗ PPS-subsidie bedraagt "&TEXT(E24/E13,"0,0%")&" van de projectkosten (maximum 70%)")) -> Nog geen projectkosten ingevuld
H14: =IF(E13=0, "Nog geen projectkosten ingevuld", IF(E21/E13>=30%, "✓ Cofinanciering bedraagt "&TEXT(E21/E13,"0,0%")&" (minimum 30%)", "✗ Cofinanciering bedraagt "&TEXT(E21/E13,"0,0%")&" (minimum 30%)")) -> Nog geen projectkosten ingevuld
A15: Financiering | H15: =IF(E13=0, "Nog geen projectkosten ingevuld", IF((E19)/E13>=5%, "✓ Private cashbijdrage bedraagt "&TEXT((E19)/E13,"0,0%")&" (minimum 5%)", "✗ Private Cashbijdrage bedraagt "&TEXT((E19)/E13,"0,0%")&" (minimum 5%)")) -> Nog geen projectkosten ingevuld
A16: Cofinanciering | B16: =B9 -> 2027 | C16: =C9 -> 2028 | D16: =D9 -> 2029 | E16: totaal | H16: =IF(E24=0, "Nog geen PPS subsidie ingevuld", IF('samenvatting partners'!Q40/E24>=25%, "✓ "&TEXT('samenvatting partners'!Q40/E24,"0,0%")&" van de PPS-subsidie komt ten goede aan MKB-partners (minimum 25%)", "✗ Slechts "&TEXT('samenvatting partners'!Q40/E24,"0,0%")&" van de PPS-subsidie komt ten goede aan MKB-partners (minimum 25%)")) -> Nog geen PPS subsidie ingevuld
A17: In kind bijdrage private partners | B17: =SUMIFS('samenvatting partners'!J:J,'samenvatting partners'!$I:$I,"in kind",'samenvatting partners'!$H:$H,"privaat") -> 0 | C17: =SUMIFS('samenvatting partners'!K:K,'samenvatting partners'!$I:$I,"in kind",'samenvatting partners'!$H:$H,"privaat") -> 0 | D17: =SUMIFS('samenvatting partners'!L:L,'samenvatting partners'!$I:$I,"in kind",'samenvatting partners'!$H:$H,"privaat") -> 0 | E17: =SUM(B17:D17) -> 0
A18: In kind bijdrage publieke partners | B18: =SUMIFS('samenvatting partners'!J:J,'samenvatting partners'!$I:$I,"in kind",'samenvatting partners'!$H:$H,"publiek") -> 0 | C18: =SUMIFS('samenvatting partners'!K:K,'samenvatting partners'!$I:$I,"in kind",'samenvatting partners'!$H:$H,"publiek") -> 0 | D18: =SUMIFS('samenvatting partners'!L:L,'samenvatting partners'!$I:$I,"in kind",'samenvatting partners'!$H:$H,"publiek") -> 0 | E18: =SUM(B18:D18) -> 0
A19: Cash bijdrage private partners (tabel cash) | B19: =' cash bijdrage'!C19 -> 0 | C19: =' cash bijdrage'!D19 -> 0 | D19: =' cash bijdrage'!E19 -> 0 | E19: =SUM(B19:D19) -> 0
A20: Cash bijdrage publieke partners (tabel cash) | B20: =' cash bijdrage'!C35 -> 0 | C20: =' cash bijdrage'!D35 -> 0 | D20: =' cash bijdrage'!E35 -> 0 | E20: =SUM(B20:D20) -> 0
A21: Totaal Cofinanciering | B21: =SUM(B17:B20) -> 0 | C21: =SUM(C17:C20) -> 0 | D21: =SUM(D17:D20) -> 0 | E21: =SUM(E17:E20) -> 0
A23: Gevraagde publieke bijdrage | B23: =B16 -> 2027 | C23: =C16 -> 2028 | D23: =D16 -> 2029 | E23: totaal
A24: gevraagde PPS subsidie | B24: =SUMIF('samenvatting partners'!$I:$I,"PPS toeslag",'samenvatting partners'!J:J) -> 0 | C24: =SUMIF('samenvatting partners'!$I:$I,"PPS toeslag",'samenvatting partners'!K:K) -> 0 | D24: =SUMIF('samenvatting partners'!$I:$I,"PPS toeslag",'samenvatting partners'!L:L) -> 0 | E24: =SUM(B24:D24) -> 0
A25: Totaal gevraagde publieke bijdrage | B25: =SUM(B24:B24) -> 0 | C25: =SUM(C24:C24) -> 0 | D25: =SUM(D24:D24) -> 0 | E25: =SUM(B25:D25) -> 0
A26: Totale financiering zonder eigen bijdrage | B26: =B21+B25 -> 0 | C26: =C21+C25 -> 0 | D26: =D21+D25 -> 0 | E26: =E21+E25 -> 0
A28: Eigen bijdrage partners (geen cofinanciering) | B28: =SUMIF('samenvatting partners'!$I:$I,"Eigen bijdrage",'samenvatting partners'!J:J) -> 0 | C28: =SUMIF('samenvatting partners'!$I:$I,"Eigen bijdrage",'samenvatting partners'!K:K) -> 0 | D28: =SUMIF('samenvatting partners'!$I:$I,"Eigen bijdrage",'samenvatting partners'!L:L) -> 0 | E28: =SUM(B28:D28) -> 0
A29: Totaal financiering | B29: =B21+B25 -> 0 | C29: =C21+C25 -> 0 | D29: =D21+D25 -> 0 | E29: =E21+E25+E28 -> 0
C32: Totale cash in het project | E32: =E19+E20+E25 -> 0 | G32: Percentage berekend op de totale kosten minus 'eigen bijdrage partners'
C34: Verschil kosten -/- financiering | E34: =E13-E29 -> 0 | G34: Verschil moet nul zijn
C36: Totaal cash bijdrage privaat en publiek | E36: =E19+E20 -> 0
C37: Totaal cash uit tabbladen partners | E37: =SUM('Startblad totalen:Eindblad totalen'!H55) -> 0
C38: Verschil cash bijdrage - cash financiering | E38: =E36-E37 -> 0

Sheet  cash bijdrage
A1: Projectcode: | B1: =kostenoverzicht!B1 -> wordt overgenomen uit tabblad deelnemers
A2: Projecttitel: | B2: =kostenoverzicht!B2 -> 0
A4: In cash bijdrage per private partner
A5: Geef in onderstaande tabel weer welke cashbijdragen door welke partners worden betaald en voor welke projectpartner deze bijdragen bestemd zijn.
A6: Selecteer beide partners uit de keuzelijst.
A8: Naam Partner van wie de cash komt | B8: voor welke partner is de cash | C8: Waarde in cash bijdrage (€)
C9: =kostenoverzicht!B9 -> 2027 | D9: =kostenoverzicht!C9 -> 2028 | E9: =kostenoverzicht!D9 -> 2029 | F9: Totaal
F10: =SUM(C10:E10) -> 0
F11: =SUM(C11:E11) -> 0
F12: =SUM(C12:E12) -> 0
F13: =SUM(C13:E13) -> 0
F14: =SUM(C14:E14) -> 0
F15: =SUM(C15:E15) -> 0
F18: =SUM(C18:E18) -> 0
A19: TOTAAL excl. BTW | C19: =SUM(C10:C18) -> 0 | D19: =SUM(D10:D18) -> 0 | E19: =SUM(E10:E18) -> 0 | F19: =SUM(F10:F18) -> 0
A23: In cash bijdrage per publieke partner
A24: Geef in onderstaande tabel weer welke cashbijdragen door welke partners worden betaald en voor welke projectpartner deze bijdragen bestemd zijn.
A25: Selecteer beide partners uit de keuzelijst.
A27: Naam Partner van wie de cash komt | B27: voor welke partner is de cash | C27: Waarde in cash bijdrage (€)
C28: =C9 -> 2027 | D28: =D9 -> 2028 | E28: =E9 -> 2029 | F28: Totaal
F29: =SUM(C29:E29) -> 0
F30: =SUM(C30:E30) -> 0
F31: =SUM(C31:E31) -> 0
F32: =SUM(C32:E32) -> 0
F33: =SUM(C33:E33) -> 0
F34: =SUM(C34:E34) -> 0
A35: TOTAAL excl. BTW | C35: =SUM(C29:C34) -> 0 | D35: =SUM(D29:D34) -> 0 | E35: =SUM(E29:E34) -> 0 | F35: =SUM(F29:F34) -> 0
A37: Totale cash bijdrage in project | F37: =F19+F35 -> 0
A39: Totale cash verdeeld over deelnemers | F39: =SUM('Startblad totalen:Eindblad totalen'!H55) -> 0
A40: Cash nog verdelen over deelnemers | F40: =F37-F39 -> 0

Sheet Startblad totalen
D6: DIT BLAD LEEG LATEN

Sheet kosten penvoerder
A1: Projectcode: | B1: =IF(deelnemers!B2="invullen als beschikbaar", "wordt overgenomen uit tabblad deelnemers",deelnemers!B2) -> wordt overgenomen uit tabblad deelnemers | F1: =IF(C9="MKB (midden en klein bedrijf)",F53,0) -> 0
A2: Projecttitel: | B2: =kostenoverzicht!B2 -> 0
A4: Kosten
A5: In deze tabel vult u de projectkosten in per partner in €, maak onderscheid in personeel, afschrijving en overige kosten
A6: U vult alleen de witte vakken in. Wilt u rijen toevoegen dan graag op de laatse regel van de categorie gaan staan en een regel erboven toevoegen
A7: Let op dat de oranje balk is ingevuld met TYPE Organisatie in het deelnemers tabblad.
A9: Penvoerder | B9: =deelnemers!B15 -> 0 | C9: =deelnemers!C15 -> MKB (midden en klein bedrijf) | F9: =deelnemers!G15 -> 0 | H9: =IF(C9=deelnemers!AJ20,"Indien PPS toeslag wordt aangevraagd MKB verklaring meesturen"," ") -> Indien PPS toeslag wordt aangevraagd MKB verklaring meesturen
H11: * https://www.rvo.nl/onderwerpen/definities | W11: ja
C12: =IF(deelnemers!F15="Nee","Kosten in € Inclusief BTW","Kosten in € EXCLUSIEF BTW") -> Kosten in € EXCLUSIEF BTW | I12: Kosten in € EXCLUSIEF BTW | W12: nee
C13: =kostenoverzicht!B9 -> 2027 | D13: =kostenoverzicht!C9 -> 2028 | E13: =kostenoverzicht!D9 -> 2029 | F13: Totaal
A14: Personeelskosten | C14: in € | W14: Experimentele Ontwikkeling
A15: schaal | B15: functie | C15: kosten | D15: kosten | E15: kosten | F15: totaal | W15: Industrieel onderzoek
F16: =SUM(C16:E16) -> 0 | W16: Fundamenteel onderzoek
F17: =SUM(C17:E17) -> 0
F18: =SUM(C18:E18) -> 0
F19: =SUM(C19:E19) -> 0
F20: =SUM(C20:E20) -> 0
F21: =SUM(C21:E21) -> 0
F22: =SUM(C22:E22) -> 0
F23: =SUM(C23:E23) -> 0
F24: =SUM(C24:E24) -> 0
A25: Totaal personeel | C25: =SUM(C16:C24) -> 0 | D25: =SUM(D16:D24) -> 0 | E25: =SUM(E16:E24) -> 0 | F25: =SUM(F16:F24) -> 0
A26: Investeringen op basis van afschrijving en directe relatie met project
A27: Omschrijving | C27: =C13 -> 2027 | D27: =D13 -> 2028 | E27: =E13 -> 2029 | F27: Totaal
F28: =SUM(C28:E28) -> 0
F29: =SUM(C29:E29) -> 0
F30: =SUM(C30:E30) -> 0
A31: Totaal investeringen | C31: =SUM(C28:C30) -> 0 | D31: =SUM(D28:D30) -> 0 | E31: =SUM(E28:E30) -> 0 | F31: =SUM(F28:F30) -> 0
A32: Overige kosten
A33: Omschrijving | C33: =C27 -> 2027 | D33: =D27 -> 2028 | E33: =E27 -> 2029 | F33: Totaal
F34: =SUM(C34:E34) -> 0
F35: =SUM(C35:E35) -> 0
F36: =SUM(C36:E36) -> 0
F37: =SUM(C37:E37) -> 0
F38: =SUM(C38:E38) -> 0
F39: =SUM(C39:E39) -> 0
F40: =SUM(C40:E40) -> 0
F41: =SUM(C41:E41) -> 0
F42: =SUM(C42:E42) -> 0
F43: =SUM(C43:E43) -> 0
F44: =SUM(C44:E44) -> 0
F45: =SUM(C45:E45) -> 0
A46: Totaal overige kosten | C46: =SUM(C34:C45) -> 0 | D46: =SUM(D34:D45) -> 0 | E46: =SUM(E34:E45) -> 0 | F46: =SUM(F34:F45) -> 0
A48: Totale kosten | C48: =C25+C31+C46 -> 0 | D48: =D25+D31+D46 -> 0 | E48: =E25+E31+E46 -> 0 | F48: =SUM(F25+F31+F46) -> 0
A51: Financiering van de subsidiabele kosten
C52: =C33 -> 2027 | D52: =D33 -> 2028 | E52: =E33 -> 2029 | F52: =F33 -> Totaal
A53: PPS subsidie | F53: =SUM(C53:E53) -> 0
A54: cash bijdrage | C54: =IFERROR(_xlfn.XLOOKUP(B9,' cash bijdrage'!B:B,' cash bijdrage'!C:C),0) -> 0 | D54: =IFERROR(_xlfn.XLOOKUP(B9,' cash bijdrage'!B:B,' cash bijdrage'!D:D),0) -> 0 | E54: =IFERROR(_xlfn.XLOOKUP(B9,' cash bijdrage'!B:B,' cash bijdrage'!E:E),0) -> 0 | F54: =SUM(C54:E54) -> 0 | H54: *De cash bijdrage worden berekend vanuit het tabblad cash bijdrage.
A55: in kind bijdrage | F55: =SUM(C55:E55) -> 0
A56: Subtotaal financiering | C56: =SUM(C53:C55) -> 0 | D56: =SUM(D53:D55) -> 0 | E56: =SUM(E53:E55) -> 0 | F56: =SUM(F53:F55) -> 0
A58: Eigen bijdrage partner (financiering die niet meetelt in de verhoudingen publiek privaat)
C59: =C13 -> 2027 | D59: =D13 -> 2028 | E59: =E13 -> 2029 | F59: =F13 -> Totaal
A60: Eigen bijdrage | F60: =SUM(C60:E60) -> 0
A61: Totale financiering | C61: =C56+C60 -> 0 | D61: =D56+D60 -> 0 | E61: =E56+E60 -> 0 | F61: =F56+F60 -> 0 | H61: =IF(F48=F61,"Akkoord","kosten en financiering zijn niet aan elkaar gelijk") -> Akkoord
H62: =IF(F53=0, "", IF(C9="MKB (midden en klein bedrijf)", IF(F53/F48<=60%, "✓ PPS-subsidie bedraagt "&TEXT(F53/F48,"0,0%")&" van de kosten (maximum 60%)", "✗ PPS-subsidie bedraagt "&TEXT(F53/F48,"0,0%")&" van de kosten (maximum 60%)"), IF(C9="onderzoeksorganisatie, publiek", IF(F53/F48<=80%, "✓ PPS-subsidie bedraagt "&TEXT(F53/F48,"0,0%")&" van de kosten (maximum 80%)", "✗ PPS-subsidie bedraagt "&TEXT(F53/F48,"0,0%")&" van de kosten (maximum 80%)"), IF(C9="onderzoeksorganisatie, privaat", IF(F53/F48<=80%, "✓ PPS-subsidie bedraagt "&TEXT(F53/F48,"0,0%")&" van de kosten (maximum 80%)", "✗ PPS-subsidie bedraagt "&TEXT(F53/F48,"0,0%")&" van de kosten (maximum 80%)"), IF(C9="innovatieve onderneming", IF(F53/F48<=50%, "✓ PPS-subsidie bedraagt "&TEXT(F53/F48,"0,0%")&" van de kosten (maximum 50%)", "✗ PPS-subsidie bedraagt "&TEXT(F53/F48,"0,0%")&" van de kosten (maximum 50%)"), "✗ Dit type deelnemer komt niet in aanmerking voor PPS-subsidie")))))

Sheet kosten partner 1
A1: Projectcode: | B1: =IF(deelnemers!B2="invullen als beschikbaar", "wordt overgenomen uit tabblad deelnemers",deelnemers!B2) -> wordt overgenomen uit tabblad deelnemers | F1: =IF(C9="MKB (midden en klein bedrijf)",F53,0) -> 0
A2: Projecttitel: | B2: =kostenoverzicht!B2 -> 0
A4: Kosten
A5: In deze tabel vult u de projectkosten in per partner in €, maak onderscheid in personeel, afschrijving en overige kosten
A6: U vult alleen de witte vakken in. Wilt u rijen toevoegen dan graag op de laatse regel van de categorie gaan staan en een regel erboven toevoegen
A7: Let op dat de oranje balk is ingevuld met TYPE Organisatie in het deelnemers tabblad.
H8: =IF(C9=deelnemers!AI26,"U moet type organisatie invullen in de deelnemerssheet"," ") -> U moet type organisatie invullen in de deelnemerssheet
A9: =deelnemers!A16 -> partner 1 | B9: =deelnemers!B16 -> 0 | C9: =deelnemers!C16 -> 0 | F9: =deelnemers!G16 -> 0 | H9: =IF(C9=deelnemers!AJ20,"Indien PPS toeslag wordt aangevraagd MKB verklaring meesturen"," ")
C12: =IF(deelnemers!F15="Nee","Kosten in € Inclusief BTW","Kosten in € EXCLUSIEF BTW") -> Kosten in € EXCLUSIEF BTW
C13: =kostenoverzicht!B9 -> 2027 | D13: =kostenoverzicht!C9 -> 2028 | E13: =kostenoverzicht!D9 -> 2029 | F13: Totaal
A14: Personeelskosten | C14: in €
A15: schaal | B15: functie | C15: kosten | D15: kosten | E15: kosten | F15: totaal
F16: =SUM(C16:E16) -> 0
F17: =SUM(C17:E17) -> 0
F18: =SUM(C18:E18) -> 0
F19: =SUM(C19:E19) -> 0
F20: =SUM(C20:E20) -> 0
F21: =SUM(C21:E21) -> 0
F22: =SUM(C22:E22) -> 0
F23: =SUM(C23:E23) -> 0
F24: =SUM(C24:E24) -> 0
A25: Totaal personeel | C25: =SUM(C16:C24) -> 0 | D25: =SUM(D16:D24) -> 0 | E25: =SUM(E16:E24) -> 0 | F25: =SUM(F16:F24) -> 0
A26: Investeringen op basis van afschrijving en directe relatie met project
A27: Omschrijving | C27: =C13 -> 2027 | D27: =D13 -> 2028 | E27: =E13 -> 2029 | F27: totaal
F28: =SUM(C28:E28) -> 0
F29: =SUM(C29:E29) -> 0
F30: =SUM(C30:E30) -> 0
A31: Totaal investeringen | C31: =SUM(C28:C30) -> 0 | D31: =SUM(D28:D30) -> 0 | E31: =SUM(E28:E30) -> 0 | F31: =SUM(F28:F30) -> 0
A32: Overige kosten
A33: Omschrijving | C33: =C27 -> 2027 | D33: =D27 -> 2028 | E33: =E27 -> 2029 | F33: totaal
F34: =SUM(C34:E34) -> 0
F35: =SUM(C35:E35) -> 0
F36: =SUM(C36:E36) -> 0
F37: =SUM(C37:E37) -> 0
F38: =SUM(C38:E38) -> 0
F39: =SUM(C39:E39) -> 0
F40: =SUM(C40:E40) -> 0
F41: =SUM(C41:E41) -> 0
F42: =SUM(C42:E42) -> 0
F43: =SUM(C43:E43) -> 0
F44: =SUM(C44:E44) -> 0
F45: =SUM(C45:E45) -> 0
A46: Totaal overige kosten | C46: =SUM(C34:C45) -> 0 | D46: =SUM(D34:D45) -> 0 | E46: =SUM(E34:E45) -> 0 | F46: =SUM(F34:F45) -> 0
A48: Totale kosten | C48: =C25+C31+C46 -> 0 | D48: =D25+D31+D46 -> 0 | E48: =E25+E31+E46 -> 0 | F48: =SUM(F25+F31+F46) -> 0
A51: Financiering van de kosten
C52: =C33 -> 2027 | D52: =D33 -> 2028 | E52: =E33 -> 2029 | F52: =F33 -> totaal
A53: PPS subsidie | F53: =SUM(C53:E53) -> 0
A54: cash* | C54: =IFERROR(_xlfn.XLOOKUP(B9,' cash bijdrage'!B:B,' cash bijdrage'!C:C),0) -> 0 | D54: =IFERROR(_xlfn.XLOOKUP(B9,' cash bijdrage'!B:B,' cash bijdrage'!D:D),0) -> 0 | E54: =IFERROR(_xlfn.XLOOKUP(B9,' cash bijdrage'!B:B,' cash bijdrage'!E:E),0) -> 0 | F54: =SUM(C54:E54) -> 0 | H54: *De cash bijdrage worden berekend vanuit het tabblad cash bijdrage.
A55: in kind | F55: =SUM(C55:E55) -> 0
A56: Totaal | C56: =SUM(C53:C55) -> 0 | D56: =SUM(D53:D55) -> 0 | E56: =SUM(E53:E55) -> 0 | F56: =SUM(F53:F55) -> 0
A57: * Betreft cash bijdrage(n) van consortiumpartners; deze moet tevens zijn opgenomen in tabblad 'cash bijdrage'.
A58: Eigen bijdrage partner (financiering die niet meetelt in de verhoudingen publiek privaat)
C59: =C13 -> 2027 | D59: =D13 -> 2028 | E59: =E13 -> 2029 | F59: =F13 -> Totaal
A60: Eigen bijdrage | F60: =SUM(C60:E60) -> 0
A61: Totale financiering | C61: =C56+C60 -> 0 | D61: =D56+D60 -> 0 | E61: =E56+E60 -> 0 | F61: =F56+F60 -> 0 | H61: =IF(F48=F61,"Akkoord","kosten en financiering zijn niet aan elkaar gelijk") -> Akkoord
H62: =IF(F53=0, "", IF(C9="MKB (midden en klein bedrijf)", IF(F53/F48<=60%, "✓ PPS-subsidie bedraagt "&TEXT(F53/F48,"0,0%")&" van de kosten (maximum 60%)", "✗ PPS-subsidie bedraagt "&TEXT(F53/F48,"0,0%")&" van de kosten (maximum 60%)"), IF(C9="onderzoeksorganisatie, publiek", IF(F53/F48<=80%, "✓ PPS-subsidie bedraagt "&TEXT(F53/F48,"0,0%")&" van de kosten (maximum 80%)", "✗ PPS-subsidie bedraagt "&TEXT(F53/F48,"0,0%")&" van de kosten (maximum 80%)"), IF(C9="onderzoeksorganisatie, privaat", IF(F53/F48<=80%, "✓ PPS-subsidie bedraagt "&TEXT(F53/F48,"0,0%")&" van de kosten (maximum 80%)", "✗ PPS-subsidie bedraagt "&TEXT(F53/F48,"0,0%")&" van de kosten (maximum 80%)"), IF(C9="innovatieve onderneming", IF(F53/F48<=50%, "✓ PPS-subsidie bedraagt "&TEXT(F53/F48,"0,0%")&" van de kosten (maximum 50%)", "✗ PPS-subsidie bedraagt "&TEXT(F53/F48,"0,0%")&" van de kosten (maximum 50%)"), "✗ Dit type deelnemer komt niet in aanmerking voor PPS-subsidie")))))

Sheet kosten partner 2
A1: Projectcode: | B1: =IF(deelnemers!B2="invullen als beschikbaar", "wordt overgenomen uit tabblad deelnemers",deelnemers!B2) -> wordt overgenomen uit tabblad deelnemers | F1: =IF(C9="MKB (midden en klein bedrijf)",F53,0) -> 0
A2: Projecttitel: | B2: =kostenoverzicht!B2 -> 0
A4: Kosten
A5: In deze tabel vult u de projectkosten in per partner in €, maak onderscheid in personeel, afschrijving en overige kosten
A6: U vult alleen de witte vakken in. Wilt u rijen toevoegen dan graag op de laatse regel van de categorie gaan staan en een regel erboven toevoegen
A7: Let op dat de oranje balk is ingevuld met TYPE Organisatie in het deelnemers tabblad.
H8: =IF(C9=deelnemers!AI26,"U moet type organisatie invullen in de deelnemerssheet"," ") -> U moet type organisatie invullen in de deelnemerssheet
A9: =deelnemers!A17 -> partner 2 | B9: =deelnemers!B17 -> 0 | C9: =deelnemers!C17 -> 0 | F9: =deelnemers!G17 -> 0 | H9: =IF(C9=deelnemers!AJ20,"Indien PPS toeslag wordt aangevraagd MKB verklaring meesturen"," ") | W9: subsidie aanvrager
W10: ja
C12: =IF(deelnemers!F15="Nee","Kosten in € Inclusief BTW","Kosten in € EXCLUSIEF BTW") -> Kosten in € EXCLUSIEF BTW | W12: nee
C13: =kostenoverzicht!B9 -> 2027 | D13: =kostenoverzicht!C9 -> 2028 | E13: =kostenoverzicht!D9 -> 2029 | F13: Totaal
A14: Personeelskosten | C14: in €
A15: schaal | B15: functie | C15: kosten | D15: kosten | E15: kosten | F15: totaal
F16: =SUM(C16:E16) -> 0
F17: =SUM(C17:E17) -> 0
F18: =SUM(C18:E18) -> 0
F19: =SUM(C19:E19) -> 0
F20: =SUM(C20:E20) -> 0
F21: =SUM(C21:E21) -> 0
F22: =SUM(C22:E22) -> 0
F23: =SUM(C23:E23) -> 0
F24: =SUM(C24:E24) -> 0
A25: Totaal personeel | C25: =SUM(C16:C24) -> 0 | D25: =SUM(D16:D24) -> 0 | E25: =SUM(E16:E24) -> 0 | F25: =SUM(F16:F24) -> 0
A26: Investeringen op basis van afschrijving en directe relatie met project
A27: Omschrijving | C27: =C13 -> 2027 | D27: =D13 -> 2028 | E27: =E13 -> 2029 | F27: totaal
F28: =SUM(C28:E28) -> 0
F29: =SUM(C29:E29) -> 0
F30: =SUM(C30:E30) -> 0
A31: Totaal investeringen | C31: =SUM(C28:C30) -> 0 | D31: =SUM(D28:D30) -> 0 | E31: =SUM(E28:E30) -> 0 | F31: =SUM(F28:F30) -> 0
A32: Overige kosten
A33: Omschrijving | C33: =C27 -> 2027 | D33: =D27 -> 2028 | E33: =E27 -> 2029 | F33: totaal
F34: =SUM(C34:E34) -> 0
F35: =SUM(C35:E35) -> 0
F36: =SUM(C36:E36) -> 0
F37: =SUM(C37:E37) -> 0
F38: =SUM(C38:E38) -> 0
F39: =SUM(C39:E39) -> 0
F40: =SUM(C40:E40) -> 0
F41: =SUM(C41:E41) -> 0
F42: =SUM(C42:E42) -> 0
F43: =SUM(C43:E43) -> 0
F44: =SUM(C44:E44) -> 0
F45: =SUM(C45:E45) -> 0
A46: Totaal overige kosten | C46: =SUM(C34:C45) -> 0 | D46: =SUM(D34:D45) -> 0 | E46: =SUM(E34:E45) -> 0 | F46: =SUM(F34:F45) -> 0
A48: Totale kosten | C48: =C25+C31+C46 -> 0 | D48: =D25+D31+D46 -> 0 | E48: =E25+E31+E46 -> 0 | F48: =SUM(F25+F31+F46) -> 0
A51: Financiering van de kosten
C52: =C33 -> 2027 | D52: =D33 -> 2028 | E52: =E33 -> 2029 | F52: =F33 -> totaal
A53: PPS subsidie | F53: =SUM(C53:E53) -> 0
A54: cash* | C54: =IFERROR(_xlfn.XLOOKUP(B9,' cash bijdrage'!B:B,' cash bijdrage'!C:C),0) -> 0 | D54: =IFERROR(_xlfn.XLOOKUP(B9,' cash bijdrage'!B:B,' cash bijdrage'!D:D),0) -> 0 | E54: =IFERROR(_xlfn.XLOOKUP(B9,' cash bijdrage'!B:B,' cash bijdrage'!E:E),0) -> 0 | F54: =SUM(C54:E54) -> 0 | H54: *De cash bijdrage worden berekend vanuit het tabblad cash bijdrage.
A55: in kind | F55: =SUM(C55:E55) -> 0
A56: Totaal | C56: =SUM(C53:C55) -> 0 | D56: =SUM(D53:D55) -> 0 | E56: =SUM(E53:E55) -> 0 | F56: =SUM(F53:F55) -> 0
A57: * Betreft cash bijdrage(n) van consortiumpartners; deze moet tevens zijn opgenomen in tabblad 'cash bijdrage'.
A58: Eigen bijdrage partner (financiering die niet meetelt in de verhoudingen publiek privaat)
C59: =C13 -> 2027 | D59: =D13 -> 2028 | E59: =E13 -> 2029 | F59: =F13 -> Totaal
A60: Eigen bijdrage | F60: =SUM(C60:E60) -> 0
A61: Totale financiering | C61: =C56+C60 -> 0 | D61: =D56+D60 -> 0 | E61: =E56+E60 -> 0 | F61: =F56+F60 -> 0 | H61: =IF(F48=F61,"Akkoord","kosten en financiering zijn niet aan elkaar gelijk") -> Akkoord
H62: =IF(F53=0, "", IF(C9="MKB (midden en klein bedrijf)", IF(F53/F48<=60%, "✓ PPS-subsidie bedraagt "&TEXT(F53/F48,"0,0%")&" van de kosten (maximum 60%)", "✗ PPS-subsidie bedraagt "&TEXT(F53/F48,"0,0%")&" van de kosten (maximum 60%)"), IF(C9="onderzoeksorganisatie, publiek", IF(F53/F48<=80%, "✓ PPS-subsidie bedraagt "&TEXT(F53/F48,"0,0%")&" van de kosten (maximum 80%)", "✗ PPS-subsidie bedraagt "&TEXT(F53/F48,"0,0%")&" van de kosten (maximum 80%)"), IF(C9="onderzoeksorganisatie, privaat", IF(F53/F48<=80%, "✓ PPS-subsidie bedraagt "&TEXT(F53/F48,"0,0%")&" van de kosten (maximum 80%)", "✗ PPS-subsidie bedraagt "&TEXT(F53/F48,"0,0%")&" van de kosten (maximum 80%)"), IF(C9="innovatieve onderneming", IF(F53/F48<=50%, "✓ PPS-subsidie bedraagt "&TEXT(F53/F48,"0,0%")&" van de kosten (maximum 50%)", "✗ PPS-subsidie bedraagt "&TEXT(F53/F48,"0,0%")&" van de kosten (maximum 50%)"), "✗ Dit type deelnemer komt niet in aanmerking voor PPS-subsidie")))))

Sheet kosten partner 3
A1: Projectcode: | B1: =IF(deelnemers!B2="invullen als beschikbaar", "wordt overgenomen uit tabblad deelnemers",deelnemers!B2) -> wordt overgenomen uit tabblad deelnemers | F1: =IF(C9="MKB (midden en klein bedrijf)",F53,0) -> 0
A2: Projecttitel: | B2: =kostenoverzicht!B2 -> 0
A4: Kosten
A5: In deze tabel vult u de projectkosten in per partner in €, maak onderscheid in personeel, afschrijving en overige kosten
A6: U vult alleen de witte vakken in. Wilt u rijen toevoegen dan graag op de laatse regel van de categorie gaan staan en een regel erboven toevoegen
A7: Let op dat de oranje balk is ingevuld met TYPE Organisatie in het deelnemers tabblad.
H8: =IF(C9=deelnemers!AI26,"U moet type organisatie invullen in de deelnemerssheet"," ") -> U moet type organisatie invullen in de deelnemerssheet
A9: =deelnemers!A18 -> partner 3 | B9: =deelnemers!B18 -> 0 | C9: =deelnemers!C18 -> 0 | F9: =deelnemers!G18 -> 0 | H9: =IF(C9=deelnemers!AJ20,"Indien PPS toeslag wordt aangevraagd MKB verklaring meesturen"," ") | W9: subsidie aanvrager
W10: ja
C12: =IF(deelnemers!F15="Nee","Kosten in € Inclusief BTW","Kosten in € EXCLUSIEF BTW") -> Kosten in € EXCLUSIEF BTW | W12: nee
C13: =kostenoverzicht!B9 -> 2027 | D13: =kostenoverzicht!C9 -> 2028 | E13: =kostenoverzicht!D9 -> 2029 | F13: Totaal
A14: Personeelskosten | C14: in €
A15: schaal | B15: functie | C15: kosten | D15: kosten | E15: kosten | F15: totaal
F16: =SUM(C16:E16) -> 0
F17: =SUM(C17:E17) -> 0
F18: =SUM(C18:E18) -> 0
F19: =SUM(C19:E19) -> 0
F20: =SUM(C20:E20) -> 0
F21: =SUM(C21:E21) -> 0
F22: =SUM(C22:E22) -> 0
F23: =SUM(C23:E23) -> 0
F24: =SUM(C24:E24) -> 0
A25: Totaal personeel | C25: =SUM(C16:C24) -> 0 | D25: =SUM(D16:D24) -> 0 | E25: =SUM(E16:E24) -> 0 | F25: =SUM(F16:F24) -> 0
A26: Investeringen op basis van afschrijving en directe relatie met project
A27: Omschrijving | C27: =C13 -> 2027 | D27: =D13 -> 2028 | E27: =E13 -> 2029 | F27: totaal
F28: =SUM(C28:E28) -> 0
F29: =SUM(C29:E29) -> 0
F30: =SUM(C30:E30) -> 0
A31: Totaal investeringen | C31: =SUM(C28:C30) -> 0 | D31: =SUM(D28:D30) -> 0 | E31: =SUM(E28:E30) -> 0 | F31: =SUM(F28:F30) -> 0
A32: Overige kosten
A33: Omschrijving | C33: =C27 -> 2027 | D33: =D27 -> 2028 | E33: =E27 -> 2029 | F33: totaal
F34: =SUM(C34:E34) -> 0
F35: =SUM(C35:E35) -> 0
F36: =SUM(C36:E36) -> 0
F37: =SUM(C37:E37) -> 0
F38: =SUM(C38:E38) -> 0
F39: =SUM(C39:E39) -> 0
F40: =SUM(C40:E40) -> 0
F41: =SUM(C41:E41) -> 0
F42: =SUM(C42:E42) -> 0
F43: =SUM(C43:E43) -> 0
F44: =SUM(C44:E44) -> 0
F45: =SUM(C45:E45) -> 0
A46: Totaal overige kosten | C46: =SUM(C34:C45) -> 0 | D46: =SUM(D34:D45) -> 0 | E46: =SUM(E34:E45) -> 0 | F46: =SUM(F34:F45) -> 0
A48: Totale kosten | C48: =C25+C31+C46 -> 0 | D48: =D25+D31+D46 -> 0 | E48: =E25+E31+E46 -> 0 | F48: =SUM(F25+F31+F46) -> 0
A51: Financiering van de kosten
C52: =C33 -> 2027 | D52: =D33 -> 2028 | E52: =E33 -> 2029 | F52: =F33 -> totaal
A53: PPS subsidie | F53: =SUM(C53:E53) -> 0
A54: cash* | C54: =IFERROR(_xlfn.XLOOKUP(B9,' cash bijdrage'!B:B,' cash bijdrage'!C:C),0) -> 0 | D54: =IFERROR(_xlfn.XLOOKUP(B9,' cash bijdrage'!B:B,' cash bijdrage'!D:D),0) -> 0 | E54: =IFERROR(_xlfn.XLOOKUP(B9,' cash bijdrage'!B:B,' cash bijdrage'!E:E),0) -> 0 | F54: =SUM(C54:E54) -> 0 | H54: *De cash bijdrage worden berekend vanuit het tabblad cash bijdrage.
A55: in kind | F55: =SUM(C55:E55) -> 0
A56: Totaal | C56: =SUM(C53:C55) -> 0 | D56: =SUM(D53:D55) -> 0 | E56: =SUM(E53:E55) -> 0 | F56: =SUM(F53:F55) -> 0
A57: * Betreft cash bijdrage(n) van consortiumpartners; deze moet tevens zijn opgenomen in tabblad 'cash bijdrage'.
A58: Eigen bijdrage partner (financiering die niet meetelt in de verhoudingen publiek privaat)
C59: =C13 -> 2027 | D59: =D13 -> 2028 | E59: =E13 -> 2029 | F59: =F13 -> Totaal
A60: Eigen bijdrage | F60: =SUM(C60:E60) -> 0
A61: Totale financiering | C61: =C56+C60 -> 0 | D61: =D56+D60 -> 0 | E61: =E56+E60 -> 0 | F61: =F56+F60 -> 0 | H61: =IF(F48=F61,"Akkoord","kosten en financiering zijn niet aan elkaar gelijk") -> Akkoord
H62: =IF(F53=0, "", IF(C9="MKB (midden en klein bedrijf)", IF(F53/F48<=60%, "✓ PPS-subsidie bedraagt "&TEXT(F53/F48,"0,0%")&" van de kosten (maximum 60%)", "✗ PPS-subsidie bedraagt "&TEXT(F53/F48,"0,0%")&" van de kosten (maximum 60%)"), IF(C9="onderzoeksorganisatie, publiek", IF(F53/F48<=80%, "✓ PPS-subsidie bedraagt "&TEXT(F53/F48,"0,0%")&" van de kosten (maximum 80%)", "✗ PPS-subsidie bedraagt "&TEXT(F53/F48,"0,0%")&" van de kosten (maximum 80%)"), IF(C9="onderzoeksorganisatie, privaat", IF(F53/F48<=80%, "✓ PPS-subsidie bedraagt "&TEXT(F53/F48,"0,0%")&" van de kosten (maximum 80%)", "✗ PPS-subsidie bedraagt "&TEXT(F53/F48,"0,0%")&" van de kosten (maximum 80%)"), IF(C9="innovatieve onderneming", IF(F53/F48<=50%, "✓ PPS-subsidie bedraagt "&TEXT(F53/F48,"0,0%")&" van de kosten (maximum 50%)", "✗ PPS-subsidie bedraagt "&TEXT(F53/F48,"0,0%")&" van de kosten (maximum 50%)"), "✗ Dit type deelnemer komt niet in aanmerking voor PPS-subsidie")))))

Sheet kosten partner 4
A1: Projectcode: | B1: =IF(deelnemers!B2="invullen als beschikbaar", "wordt overgenomen uit tabblad deelnemers",deelnemers!B2) -> wordt overgenomen uit tabblad deelnemers | F1: =IF(C9="MKB (midden en klein bedrijf)",F53,0) -> 0
A2: Projecttitel: | B2: =kostenoverzicht!B2 -> 0
A4: Kosten
A5: In deze tabel vult u de projectkosten in per partner in €, maak onderscheid in personeel, afschrijving en overige kosten
A6: U vult alleen de witte vakken in. Wilt u rijen toevoegen dan graag op de laatse regel van de categorie gaan staan en een regel erboven toevoegen
A7: Let op dat de oranje balk is ingevuld met TYPE Organisatie in het deelnemers tabblad.
H8: =IF(C9=deelnemers!AI26,"U moet type organisatie invullen in de deelnemerssheet"," ") -> U moet type organisatie invullen in de deelnemerssheet
A9: =deelnemers!A19 -> partner 4 | B9: =deelnemers!B19 -> 0 | C9: =deelnemers!C19 -> 0 | F9: =deelnemers!G19 -> 0 | H9: =IF(C9=deelnemers!AJ20,"Indien PPS toeslag wordt aangevraagd MKB verklaring meesturen"," ") | W9: subsidie aanvrager
W10: ja
C12: =IF(deelnemers!F15="Nee","Kosten in € Inclusief BTW","Kosten in € EXCLUSIEF BTW") -> Kosten in € EXCLUSIEF BTW | W12: nee
C13: =kostenoverzicht!B9 -> 2027 | D13: =kostenoverzicht!C9 -> 2028 | E13: =kostenoverzicht!D9 -> 2029 | F13: Totaal
A14: Personeelskosten | C14: in €
A15: schaal | B15: functie | C15: kosten | D15: kosten | E15: kosten | F15: totaal
F16: =SUM(C16:E16) -> 0
F17: =SUM(C17:E17) -> 0
F18: =SUM(C18:E18) -> 0
F19: =SUM(C19:E19) -> 0
F20: =SUM(C20:E20) -> 0
F21: =SUM(C21:E21) -> 0
F22: =SUM(C22:E22) -> 0
F23: =SUM(C23:E23) -> 0
F24: =SUM(C24:E24) -> 0
A25: Totaal personeel | C25: =SUM(C16:C24) -> 0 | D25: =SUM(D16:D24) -> 0 | E25: =SUM(E16:E24) -> 0 | F25: =SUM(F16:F24) -> 0
A26: Investeringen op basis van afschrijving en directe relatie met project
A27: Omschrijving | C27: =C13 -> 2027 | D27: =D13 -> 2028 | E27: =E13 -> 2029 | F27: totaal
F28: =SUM(C28:E28) -> 0
F29: =SUM(C29:E29) -> 0
F30: =SUM(C30:E30) -> 0
A31: Totaal investeringen | C31: =SUM(C28:C30) -> 0 | D31: =SUM(D28:D30) -> 0 | E31: =SUM(E28:E30) -> 0 | F31: =SUM(F28:F30) -> 0
A32: Overige kosten
A33: Omschrijving | C33: =C27 -> 2027 | D33: =D27 -> 2028 | E33: =E27 -> 2029 | F33: totaal
F34: =SUM(C34:E34) -> 0
F35: =SUM(C35:E35) -> 0
F36: =SUM(C36:E36) -> 0
F37: =SUM(C37:E37) -> 0
F38: =SUM(C38:E38) -> 0
F39: =SUM(C39:E39) -> 0
F40: =SUM(C40:E40) -> 0
F41: =SUM(C41:E41) -> 0
F42: =SUM(C42:E42) -> 0
F43: =SUM(C43:E43) -> 0
F44: =SUM(C44:E44) -> 0
F45: =SUM(C45:E45) -> 0
A46: Totaal overige kosten | C46: =SUM(C34:C45) -> 0 | D46: =SUM(D34:D45) -> 0 | E46: =SUM(E34:E45) -> 0 | F46: =SUM(F34:F45) -> 0
A48: Totale kosten | C48: =C25+C31+C46 -> 0 | D48: =D25+D31+D46 -> 0 | E48: =E25+E31+E46 -> 0 | F48: =SUM(F25+F31+F46) -> 0
A51: Financiering van de kosten
C52: =C33 -> 2027 | D52: =D33 -> 2028 | E52: =E33 -> 2029 | F52: =F33 -> totaal
A53: PPS subsidie | F53: =SUM(C53:E53) -> 0
A54: cash* | C54: =IFERROR(_xlfn.XLOOKUP(B9,' cash bijdrage'!B:B,' cash bijdrage'!C:C),0) -> 0 | D54: =IFERROR(_xlfn.XLOOKUP(B9,' cash bijdrage'!B:B,' cash bijdrage'!D:D),0) -> 0 | E54: =IFERROR(_xlfn.XLOOKUP(B9,' cash bijdrage'!B:B,' cash bijdrage'!E:E),0) -> 0 | F54: =SUM(C54:E54) -> 0 | H54: *De cash bijdrage worden berekend vanuit het tabblad cash bijdrage.
A55: in kind | F55: =SUM(C55:E55) -> 0
A56: Totaal | C56: =SUM(C53:C55) -> 0 | D56: =SUM(D53:D55) -> 0 | E56: =SUM(E53:E55) -> 0 | F56: =SUM(F53:F55) -> 0
A57: * Betreft cash bijdrage(n) van consortiumpartners; deze moet tevens zijn opgenomen in tabblad 'cash bijdrage'.
A58: Eigen bijdrage partner (financiering die niet meetelt in de verhoudingen publiek privaat)
C59: =C13 -> 2027 | D59: =D13 -> 2028 | E59: =E13 -> 2029 | F59: =F13 -> Totaal
A60: Eigen bijdrage | F60: =SUM(C60:E60) -> 0
A61: Totale financiering | C61: =C56+C60 -> 0 | D61: =D56+D60 -> 0 | E61: =E56+E60 -> 0 | F61: =F56+F60 -> 0 | H61: =IF(F48=F61,"Akkoord","kosten en financiering zijn niet aan elkaar gelijk") -> Akkoord
H62: =IF(F53=0, "", IF(C9="MKB (midden en klein bedrijf)", IF(F53/F48<=60%, "✓ PPS-subsidie bedraagt "&TEXT(F53/F48,"0,0%")&" van de kosten (maximum 60%)", "✗ PPS-subsidie bedraagt "&TEXT(F53/F48,"0,0%")&" van de kosten (maximum 60%)"), IF(C9="onderzoeksorganisatie, publiek", IF(F53/F48<=80%, "✓ PPS-subsidie bedraagt "&TEXT(F53/F48,"0,0%")&" van de kosten (maximum 80%)", "✗ PPS-subsidie bedraagt "&TEXT(F53/F48,"0,0%")&" van de kosten (maximum 80%)"), IF(C9="onderzoeksorganisatie, privaat", IF(F53/F48<=80%, "✓ PPS-subsidie bedraagt "&TEXT(F53/F48,"0,0%")&" van de kosten (maximum 80%)", "✗ PPS-subsidie bedraagt "&TEXT(F53/F48,"0,0%")&" van de kosten (maximum 80%)"), IF(C9="innovatieve onderneming", IF(F53/F48<=50%, "✓ PPS-subsidie bedraagt "&TEXT(F53/F48,"0,0%")&" van de kosten (maximum 50%)", "✗ PPS-subsidie bedraagt "&TEXT(F53/F48,"0,0%")&" van de kosten (maximum 50%)"), "✗ Dit type deelnemer komt niet in aanmerking voor PPS-subsidie")))))

Sheet  kosten partner 5
A1: Projectcode: | B1: =IF(deelnemers!B2="invullen als beschikbaar", "wordt overgenomen uit tabblad deelnemers",deelnemers!B2) -> wordt overgenomen uit tabblad deelnemers | F1: =IF(C9="MKB (midden en klein bedrijf)",F53,0) -> 0
A2: Projecttitel: | B2: =kostenoverzicht!B2 -> 0
A4: Kosten
A5: In deze tabel vult u de projectkosten in per partner in €, maak onderscheid in personeel, afschrijving en overige kosten
A6: U vult alleen de witte vakken in. Wilt u rijen toevoegen dan graag op de laatse regel van de categorie gaan staan en een regel erboven toevoegen
A7: Let op dat de oranje balk is ingevuld met TYPE Organisatie in het deelnemers tabblad.
H8: =IF(C9=deelnemers!AI26,"U moet type organisatie invullen in de deelnemerssheet"," ") -> U moet type organisatie invullen in de deelnemerssheet
A9: =deelnemers!A20 -> partner 5 | B9: =deelnemers!B20 -> 0 | C9: =deelnemers!C20 -> 0 | F9: =deelnemers!G20 -> 0 | H9: =IF(C9=deelnemers!AJ20,"Indien PPS toeslag wordt aangevraagd MKB verklaring meesturen"," ") | W9: subsidie aanvrager
W10: ja
C12: =IF(deelnemers!F15="Nee","Kosten in € Inclusief BTW","Kosten in € EXCLUSIEF BTW") -> Kosten in € EXCLUSIEF BTW | W12: nee
C13: =kostenoverzicht!B9 -> 2027 | D13: =kostenoverzicht!C9 -> 2028 | E13: =kostenoverzicht!D9 -> 2029 | F13: Totaal
A14: Personeelskosten | C14: in €
A15: schaal | B15: functie | C15: kosten | D15: kosten | E15: kosten | F15: totaal
F16: =SUM(C16:E16) -> 0
F17: =SUM(C17:E17) -> 0
F18: =SUM(C18:E18) -> 0
F19: =SUM(C19:E19) -> 0
F20: =SUM(C20:E20) -> 0
F21: =SUM(C21:E21) -> 0
F22: =SUM(C22:E22) -> 0
F23: =SUM(C23:E23) -> 0
F24: =SUM(C24:E24) -> 0
A25: Totaal personeel | C25: =SUM(C16:C24) -> 0 | D25: =SUM(D16:D24) -> 0 | E25: =SUM(E16:E24) -> 0 | F25: =SUM(F16:F24) -> 0
A26: Investeringen op basis van afschrijving en directe relatie met project
A27: Omschrijving | C27: =C13 -> 2027 | D27: =D13 -> 2028 | E27: =E13 -> 2029 | F27: totaal
F28: =SUM(C28:E28) -> 0
F29: =SUM(C29:E29) -> 0
F30: =SUM(C30:E30) -> 0
A31: Totaal investeringen | C31: =SUM(C28:C30) -> 0 | D31: =SUM(D28:D30) -> 0 | E31: =SUM(E28:E30) -> 0 | F31: =SUM(F28:F30) -> 0
A32: Overige kosten
A33: Omschrijving | C33: =C27 -> 2027 | D33: =D27 -> 2028 | E33: =E27 -> 2029 | F33: =F27 -> totaal
F34: =SUM(C34:E34) -> 0
F35: =SUM(C35:E35) -> 0
F36: =SUM(C36:E36) -> 0
F37: =SUM(C37:E37) -> 0
F38: =SUM(C38:E38) -> 0
F39: =SUM(C39:E39) -> 0
F40: =SUM(C40:E40) -> 0
F41: =SUM(C41:E41) -> 0
F42: =SUM(C42:E42) -> 0
F43: =SUM(C43:E43) -> 0
F44: =SUM(C44:E44) -> 0
F45: =SUM(C45:E45) -> 0
A46: Totaal overige kosten | C46: =SUM(C34:C45) -> 0 | D46: =SUM(D34:D45) -> 0 | E46: =SUM(E34:E45) -> 0 | F46: =SUM(F34:F45) -> 0
A48: Totale kosten | C48: =C25+C31+C46 -> 0 | D48: =D25+D31+D46 -> 0 | E48: =E25+E31+E46 -> 0 | F48: =SUM(F25+F31+F46) -> 0
A51: Financiering van de kosten
C52: =C33 -> 2027 | D52: =D33 -> 2028 | E52: =E33 -> 2029 | F52: =F33 -> totaal
A53: PPS subsidie | F53: =SUM(C53:E53) -> 0
A54: cash* | C54: =IFERROR(_xlfn.XLOOKUP(B9,' cash bijdrage'!B:B,' cash bijdrage'!C:C),0) -> 0 | D54: =IFERROR(_xlfn.XLOOKUP(B9,' cash bijdrage'!B:B,' cash bijdrage'!D:D),0) -> 0 | E54: =IFERROR(_xlfn.XLOOKUP(B9,' cash bijdrage'!B:B,' cash bijdrage'!E:E),0) -> 0 | F54: =SUM(C54:E54) -> 0 | H54: *De cash bijdrage worden berekend vanuit het tabblad cash bijdrage.
A55: in kind | F55: =SUM(C55:E55) -> 0
A56: Totaal | C56: =SUM(C53:C55) -> 0 | D56: =SUM(D53:D55) -> 0 | E56: =SUM(E53:E55) -> 0 | F56: =SUM(F53:F55) -> 0
A57: * Betreft cash bijdrage(n) van consortiumpartners; deze moet tevens zijn opgenomen in tabblad 'cash bijdrage'.
A58: Eigen bijdrage partner (financiering die niet meetelt in de verhoudingen publiek privaat)
C59: =C13 -> 2027 | D59: =D13 -> 2028 | E59: =E13 -> 2029 | F59: =F13 -> Totaal
A60: Eigen bijdrage | F60: =SUM(C60:E60) -> 0
A61: Totale financiering | C61: =C56+C60 -> 0 | D61: =D56+D60 -> 0 | E61: =E56+E60 -> 0 | F61: =F56+F60 -> 0 | H61: =IF(F48=F61,"Akkoord","kosten en financiering zijn niet aan elkaar gelijk") -> Akkoord
H62: =IF(F53=0, "", IF(C9="MKB (midden en klein bedrijf)", IF(F53/F48<=60%, "✓ PPS-subsidie bedraagt "&TEXT(F53/F48,"0,0%")&" van de kosten (maximum 60%)", "✗ PPS-subsidie bedraagt "&TEXT(F53/F48,"0,0%")&" van de kosten (maximum 60%)"), IF(C9="onderzoeksorganisatie, publiek", IF(F53/F48<=80%, "✓ PPS-subsidie bedraagt "&TEXT(F53/F48,"0,0%")&" van de kosten (maximum 80%)", "✗ PPS-subsidie bedraagt "&TEXT(F53/F48,"0,0%")&" van de kosten (maximum 80%)"), IF(C9="onderzoeksorganisatie, privaat", IF(F53/F48<=80%, "✓ PPS-subsidie bedraagt "&TEXT(F53/F48,"0,0%")&" van de kosten (maximum 80%)", "✗ PPS-subsidie bedraagt "&TEXT(F53/F48,"0,0%")&" van de kosten (maximum 80%)"), IF(C9="innovatieve onderneming", IF(F53/F48<=50%, "✓ PPS-subsidie bedraagt "&TEXT(F53/F48,"0,0%")&" van de kosten (maximum 50%)", "✗ PPS-subsidie bedraagt "&TEXT(F53/F48,"0,0%")&" van de kosten (maximum 50%)"), "✗ Dit type deelnemer komt niet in aanmerking voor PPS-subsidie")))))

Sheet  kosten partner 6
A1: Projectcode: | B1: =IF(deelnemers!B2="invullen als beschikbaar", "wordt overgenomen uit tabblad deelnemers",deelnemers!B2) -> wordt overgenomen uit tabblad deelnemers | F1: =IF(C9="MKB (midden en klein bedrijf)",F53,0) -> 0
A2: Projecttitel: | B2: =kostenoverzicht!B2 -> 0
A4: Kosten
A5: In deze tabel vult u de projectkosten in per partner in €, maak onderscheid in personeel, afschrijving en overige kosten
A6: U vult alleen de witte vakken in. Wilt u rijen toevoegen dan graag op de laatse regel van de categorie gaan staan en een regel erboven toevoegen
A7: Let op dat de oranje balk is ingevuld met TYPE Organisatie in het deelnemers tabblad.
H8: =IF(C9=deelnemers!AI26,"U moet type organisatie invullen in de deelnemerssheet"," ") -> U moet type organisatie invullen in de deelnemerssheet
A9: =deelnemers!A21 -> partner 6 | B9: =deelnemers!B21 -> 0 | C9: =deelnemers!C21 -> 0 | F9: =deelnemers!G21 -> 0 | H9: =IF(C9=deelnemers!AJ20,"Indien PPS toeslag wordt aangevraagd MKB verklaring meesturen"," ")
W10: subsidie aanvrager
W11: ja
C12: =IF(deelnemers!F15="Nee","Kosten in € Inclusief BTW","Kosten in € EXCLUSIEF BTW") -> Kosten in € EXCLUSIEF BTW | W12: nee
C13: =kostenoverzicht!B9 -> 2027 | D13: =kostenoverzicht!C9 -> 2028 | E13: =kostenoverzicht!D9 -> 2029 | F13: Totaal
A14: Personeelskosten | C14: in €
A15: schaal | B15: functie | C15: kosten | D15: kosten | E15: kosten | F15: totaal
F16: =SUM(C16:E16) -> 0
F17: =SUM(C17:E17) -> 0
F18: =SUM(C18:E18) -> 0
F19: =SUM(C19:E19) -> 0
F20: =SUM(C20:E20) -> 0
F21: =SUM(C21:E21) -> 0
F22: =SUM(C22:E22) -> 0
F23: =SUM(C23:E23) -> 0
F24: =SUM(C24:E24) -> 0
A25: Totaal personeel | C25: =SUM(C16:C24) -> 0 | D25: =SUM(D16:D24) -> 0 | E25: =SUM(E16:E24) -> 0 | F25: =SUM(F16:F24) -> 0
A26: Investeringen op basis van afschrijving en directe relatie met project
A27: Omschrijving | C27: =C13 -> 2027 | D27: =D13 -> 2028 | E27: =E13 -> 2029 | F27: totaal
F28: =SUM(C28:E28) -> 0
F29: =SUM(C29:E29) -> 0
F30: =SUM(C30:E30) -> 0
A31: Totaal investeringen | C31: =SUM(C28:C30) -> 0 | D31: =SUM(D28:D30) -> 0 | E31: =SUM(E28:E30) -> 0 | F31: =SUM(F28:F30) -> 0
A32: Overige kosten
A33: Omschrijving | C33: =C27 -> 2027 | D33: =D27 -> 2028 | E33: =E27 -> 2029 | F33: =F27 -> totaal
F34: =SUM(C34:E34) -> 0
F35: =SUM(C35:E35) -> 0
F36: =SUM(C36:E36) -> 0
F37: =SUM(C37:E37) -> 0
F38: =SUM(C38:E38) -> 0
F39: =SUM(C39:E39) -> 0
F40: =SUM(C40:E40) -> 0
F41: =SUM(C41:E41) -> 0
F42: =SUM(C42:E42) -> 0
F43: =SUM(C43:E43) -> 0
F44: =SUM(C44:E44) -> 0
F45: =SUM(C45:E45) -> 0
A46: Totaal overige kosten | C46: =SUM(C34:C45) -> 0 | D46: =SUM(D34:D45) -> 0 | E46: =SUM(E34:E45) -> 0 | F46: =SUM(F34:F45) -> 0
A48: Totale kosten | C48: =C25+C31+C46 -> 0 | D48: =D25+D31+D46 -> 0 | E48: =E25+E31+E46 -> 0 | F48: =SUM(F25+F31+F46) -> 0
A51: Financiering van de kosten
C52: =C33 -> 2027 | D52: =D33 -> 2028 | E52: =E33 -> 2029 | F52: =F33 -> totaal
A53: PPS subsidie | F53: =SUM(C53:E53) -> 0
A54: cash* | C54: =IFERROR(_xlfn.XLOOKUP(B9,' cash bijdrage'!B:B,' cash bijdrage'!C:C),0) -> 0 | D54: =IFERROR(_xlfn.XLOOKUP(B9,' cash bijdrage'!B:B,' cash bijdrage'!D:D),0) -> 0 | E54: =IFERROR(_xlfn.XLOOKUP(B9,' cash bijdrage'!B:B,' cash bijdrage'!E:E),0) -> 0 | F54: =SUM(C54:E54) -> 0 | H54: *De cash bijdrage worden berekend vanuit het tabblad cash bijdrage.
A55: in kind | F55: =SUM(C55:E55) -> 0
A56: Totaal | C56: =SUM(C53:C55) -> 0 | D56: =SUM(D53:D55) -> 0 | E56: =SUM(E53:E55) -> 0 | F56: =SUM(F53:F55) -> 0
A57: * Betreft cash bijdrage(n) van consortiumpartners; deze moet tevens zijn opgenomen in tabblad 'cash bijdrage'.
A58: Eigen bijdrage partner (financiering die niet meetelt in de verhoudingen publiek privaat)
C59: =C13 -> 2027 | D59: =D13 -> 2028 | E59: =E13 -> 2029 | F59: =F13 -> Totaal
A60: Eigen bijdrage | F60: =SUM(C60:E60) -> 0
A61: Totale financiering | C61: =C56+C60 -> 0 | D61: =D56+D60 -> 0 | E61: =E56+E60 -> 0 | F61: =F56+F60 -> 0 | H61: =IF(F48=F61,"Akkoord","kosten en financiering zijn niet aan elkaar gelijk") -> Akkoord
H62: =IF(F53=0, "", IF(C9="MKB (midden en klein bedrijf)", IF(F53/F48<=60%, "✓ PPS-subsidie bedraagt "&TEXT(F53/F48,"0,0%")&" van de kosten (maximum 60%)", "✗ PPS-subsidie bedraagt "&TEXT(F53/F48,"0,0%")&" van de kosten (maximum 60%)"), IF(C9="onderzoeksorganisatie, publiek", IF(F53/F48<=80%, "✓ PPS-subsidie bedraagt "&TEXT(F53/F48,"0,0%")&" van de kosten (maximum 80%)", "✗ PPS-subsidie bedraagt "&TEXT(F53/F48,"0,0%")&" van de kosten (maximum 80%)"), IF(C9="onderzoeksorganisatie, privaat", IF(F53/F48<=80%, "✓ PPS-subsidie bedraagt "&TEXT(F53/F48,"0,0%")&" van de kosten (maximum 80%)", "✗ PPS-subsidie bedraagt "&TEXT(F53/F48,"0,0%")&" van de kosten (maximum 80%)"), IF(C9="innovatieve onderneming", IF(F53/F48<=50%, "✓ PPS-subsidie bedraagt "&TEXT(F53/F48,"0,0%")&" van de kosten (maximum 50%)", "✗ PPS-subsidie bedraagt "&TEXT(F53/F48,"0,0%")&" van de kosten (maximum 50%)"), "✗ Dit type deelnemer komt niet in aanmerking voor PPS-subsidie")))))

Sheet  kosten partner 7
A1: Projectcode: | B1: =IF(deelnemers!B2="invullen als beschikbaar", "wordt overgenomen uit tabblad deelnemers",deelnemers!B2) -> wordt overgenomen uit tabblad deelnemers | F1: =IF(C9="MKB (midden en klein bedrijf)",F53,0) -> 0
A2: Projecttitel: | B2: =kostenoverzicht!B2 -> 0
A4: Kosten
A5: In deze tabel vult u de projectkosten in per partner in €, maak onderscheid in personeel, afschrijving en overige kosten
A6: U vult alleen de witte vakken in. Wilt u rijen toevoegen dan graag op de laatse regel van de categorie gaan staan en een regel erboven toevoegen
A7: Let op dat de oranje balk is ingevuld met TYPE Organisatie in het deelnemers tabblad.
H8: =IF(C9=deelnemers!AI26,"U moet type organisatie invullen in de deelnemerssheet"," ") -> U moet type organisatie invullen in de deelnemerssheet
A9: =deelnemers!A22 -> partner 7 | B9: =deelnemers!B22 -> 0 | C9: =deelnemers!C22 -> 0 | F9: =deelnemers!G22 -> 0 | H9: =IF(C9=deelnemers!AJ20,"Indien PPS toeslag wordt aangevraagd MKB verklaring meesturen"," ") | W9: subsidie aanvrager
W10: ja
C12: =IF(deelnemers!F15="Nee","Kosten in € Inclusief BTW","Kosten in € EXCLUSIEF BTW") -> Kosten in € EXCLUSIEF BTW | W12: nee
C13: =kostenoverzicht!B9 -> 2027 | D13: =kostenoverzicht!C9 -> 2028 | E13: =kostenoverzicht!D9 -> 2029 | F13: Totaal
A14: Personeelskosten | C14: in €
A15: schaal | B15: functie | C15: kosten | D15: kosten | E15: kosten | F15: totaal
F16: =SUM(C16:E16) -> 0
F17: =SUM(C17:E17) -> 0
F18: =SUM(C18:E18) -> 0
F19: =SUM(C19:E19) -> 0
F20: =SUM(C20:E20) -> 0
F21: =SUM(C21:E21) -> 0
F22: =SUM(C22:E22) -> 0
F23: =SUM(C23:E23) -> 0
F24: =SUM(C24:E24) -> 0
A25: Totaal personeel | C25: =SUM(C16:C24) -> 0 | D25: =SUM(D16:D24) -> 0 | E25: =SUM(E16:E24) -> 0 | F25: =SUM(F16:F24) -> 0
A26: Investeringen op basis van afschrijving en directe relatie met project
A27: Omschrijving | C27: =C13 -> 2027 | D27: =D13 -> 2028 | E27: =E13 -> 2029 | F27: totaal
F28: =SUM(C28:E28) -> 0
F29: =SUM(C29:E29) -> 0
F30: =SUM(C30:E30) -> 0
A31: Totaal investeringen | C31: =SUM(C28:C30) -> 0 | D31: =SUM(D28:D30) -> 0 | E31: =SUM(E28:E30) -> 0 | F31: =SUM(F28:F30) -> 0
A32: Overige kosten
A33: Omschrijving | C33: =C27 -> 2027 | D33: =D27 -> 2028 | E33: =E27 -> 2029 | F33: =F27 -> totaal
F34: =SUM(C34:E34) -> 0
F35: =SUM(C35:E35) -> 0
F36: =SUM(C36:E36) -> 0
F37: =SUM(C37:E37) -> 0
F38: =SUM(C38:E38) -> 0
F39: =SUM(C39:E39) -> 0
F40: =SUM(C40:E40) -> 0
F41: =SUM(C41:E41) -> 0
F42: =SUM(C42:E42) -> 0
F43: =SUM(C43:E43) -> 0
F44: =SUM(C44:E44) -> 0
F45: =SUM(C45:E45) -> 0
A46: Totaal overige kosten | C46: =SUM(C34:C45) -> 0 | D46: =SUM(D34:D45) -> 0 | E46: =SUM(E34:E45) -> 0 | F46: =SUM(F34:F45) -> 0
A48: Totale kosten | C48: =C25+C31+C46 -> 0 | D48: =D25+D31+D46 -> 0 | E48: =E25+E31+E46 -> 0 | F48: =SUM(F25+F31+F46) -> 0
A51: Financiering van de kosten
C52: =C33 -> 2027 | D52: =D33 -> 2028 | E52: =E33 -> 2029 | F52: =F33 -> totaal
A53: PPS subsidie | F53: =SUM(C53:E53) -> 0
A54: cash* | C54: =IFERROR(_xlfn.XLOOKUP(B9,' cash bijdrage'!B:B,' cash bijdrage'!C:C),0) -> 0 | D54: =IFERROR(_xlfn.XLOOKUP(B9,' cash bijdrage'!B:B,' cash bijdrage'!D:D),0) -> 0 | E54: =IFERROR(_xlfn.XLOOKUP(B9,' cash bijdrage'!B:B,' cash bijdrage'!E:E),0) -> 0 | F54: =SUM(C54:E54) -> 0 | H54: *De cash bijdrage worden berekend vanuit het tabblad cash bijdrage.
A55: in kind | F55: =SUM(C55:E55) -> 0
A56: Totaal | C56: =SUM(C53:C55) -> 0 | D56: =SUM(D53:D55) -> 0 | E56: =SUM(E53:E55) -> 0 | F56: =SUM(F53:F55) -> 0
A57: * Betreft cash bijdrage(n) van consortiumpartners; deze moet tevens zijn opgenomen in tabblad 'cash bijdrage'.
A58: Eigen bijdrage partner (financiering die niet meetelt in de verhoudingen publiek privaat)
C59: =C13 -> 2027 | D59: =D13 -> 2028 | E59: =E13 -> 2029 | F59: =F13 -> Totaal
A60: Eigen bijdrage | F60: =SUM(C60:E60) -> 0
A61: Totale financiering | C61: =C56+C60 -> 0 | D61: =D56+D60 -> 0 | E61: =E56+E60 -> 0 | F61: =F56+F60 -> 0 | H61: =IF(F48=F61,"Akkoord","kosten en financiering zijn niet aan elkaar gelijk") -> Akkoord
H62: =IF(F53=0, "", IF(C9="MKB (midden en klein bedrijf)", IF(F53/F48<=60%, "✓ PPS-subsidie bedraagt "&TEXT(F53/F48,"0,0%")&" van de kosten (maximum 60%)", "✗ PPS-subsidie bedraagt "&TEXT(F53/F48,"0,0%")&" van de kosten (maximum 60%)"), IF(C9="onderzoeksorganisatie, publiek", IF(F53/F48<=80%, "✓ PPS-subsidie bedraagt "&TEXT(F53/F48,"0,0%")&" van de kosten (maximum 80%)", "✗ PPS-subsidie bedraagt "&TEXT(F53/F48,"0,0%")&" van de kosten (maximum 80%)"), IF(C9="onderzoeksorganisatie, privaat", IF(F53/F48<=80%, "✓ PPS-subsidie bedraagt "&TEXT(F53/F48,"0,0%")&" van de kosten (maximum 80%)", "✗ PPS-subsidie bedraagt "&TEXT(F53/F48,"0,0%")&" van de kosten (maximum 80%)"), IF(C9="innovatieve onderneming", IF(F53/F48<=50%, "✓ PPS-subsidie bedraagt "&TEXT(F53/F48,"0,0%")&" van de kosten (maximum 50%)", "✗ PPS-subsidie bedraagt "&TEXT(F53/F48,"0,0%")&" van de kosten (maximum 50%)"), "✗ Dit type deelnemer komt niet in aanmerking voor PPS-subsidie")))))

Sheet  kosten partner 8
A1: Projectcode: | B1: =IF(deelnemers!B2="invullen als beschikbaar", "wordt overgenomen uit tabblad deelnemers",deelnemers!B2) -> wordt overgenomen uit tabblad deelnemers | F1: =IF(C9="MKB (midden en klein bedrijf)",F53,0) -> 0
A2: Projecttitel: | B2: =kostenoverzicht!B2 -> 0
A4: Kosten
A5: In deze tabel vult u de projectkosten in per partner in €, maak onderscheid in personeel, afschrijving en overige kosten
A6: U vult alleen de witte vakken in. Wilt u rijen toevoegen dan graag op de laatse regel van de categorie gaan staan en een regel erboven toevoegen
A7: Let op dat de oranje balk is ingevuld met TYPE Organisatie in het deelnemers tabblad.
H8: =IF(C9=deelnemers!AI26,"U moet type organisatie invullen in de deelnemerssheet"," ") -> U moet type organisatie invullen in de deelnemerssheet
A9: =deelnemers!A23 -> partner 8 | B9: =deelnemers!B23 -> 0 | C9: =deelnemers!C23 -> 0 | F9: =deelnemers!G23 -> 0 | H9: =IF(C9=deelnemers!AJ20,"Indien PPS toeslag wordt aangevraagd MKB verklaring meesturen"," ") | W9: subsidie aanvrager
W10: ja
C12: =IF(deelnemers!F15="Nee","Kosten in € Inclusief BTW","Kosten in € EXCLUSIEF BTW") -> Kosten in € EXCLUSIEF BTW | W12: nee
C13: =kostenoverzicht!B9 -> 2027 | D13: =kostenoverzicht!C9 -> 2028 | E13: =kostenoverzicht!D9 -> 2029 | F13: Totaal
A14: Personeelskosten | C14: in €
A15: schaal | B15: functie | C15: kosten | D15: kosten | E15: kosten | F15: totaal
F16: =SUM(C16:E16) -> 0
F17: =SUM(C17:E17) -> 0
F18: =SUM(C18:E18) -> 0
F19: =SUM(C19:E19) -> 0
F20: =SUM(C20:E20) -> 0
F21: =SUM(C21:E21) -> 0
F22: =SUM(C22:E22) -> 0
F23: =SUM(C23:E23) -> 0
F24: =SUM(C24:E24) -> 0
A25: Totaal personeel | C25: =SUM(C16:C24) -> 0 | D25: =SUM(D16:D24) -> 0 | E25: =SUM(E16:E24) -> 0 | F25: =SUM(F16:F24) -> 0
A26: Investeringen op basis van afschrijving en directe relatie met project
A27: Omschrijving | C27: =C13 -> 2027 | D27: =D13 -> 2028 | E27: =E13 -> 2029 | F27: totaal
F28: =SUM(C28:E28) -> 0
F29: =SUM(C29:E29) -> 0
F30: =SUM(C30:E30) -> 0
A31: Totaal investeringen | C31: =SUM(C28:C30) -> 0 | D31: =SUM(D28:D30) -> 0 | E31: =SUM(E28:E30) -> 0 | F31: =SUM(F28:F30) -> 0
A32: Overige kosten
A33: Omschrijving | C33: =C27 -> 2027 | D33: =D27 -> 2028 | E33: =E27 -> 2029 | F33: =F27 -> totaal
F34: =SUM(C34:E34) -> 0
F35: =SUM(C35:E35) -> 0
F36: =SUM(C36:E36) -> 0
F37: =SUM(C37:E37) -> 0
F38: =SUM(C38:E38) -> 0
F39: =SUM(C39:E39) -> 0
F40: =SUM(C40:E40) -> 0
F41: =SUM(C41:E41) -> 0
F42: =SUM(C42:E42) -> 0
F43: =SUM(C43:E43) -> 0
F44: =SUM(C44:E44) -> 0
F45: =SUM(C45:E45) -> 0
A46: Totaal overige kosten | C46: =SUM(C34:C45) -> 0 | D46: =SUM(D34:D45) -> 0 | E46: =SUM(E34:E45) -> 0 | F46: =SUM(F34:F45) -> 0
A48: Totale kosten | C48: =C25+C31+C46 -> 0 | D48: =D25+D31+D46 -> 0 | E48: =E25+E31+E46 -> 0 | F48: =SUM(F25+F31+F46) -> 0
A51: Financiering van de kosten
C52: =C33 -> 2027 | D52: =D33 -> 2028 | E52: =E33 -> 2029 | F52: =F33 -> totaal
A53: PPS subsidie | F53: =SUM(C53:E53) -> 0
A54: cash* | C54: =IFERROR(_xlfn.XLOOKUP(B9,' cash bijdrage'!B:B,' cash bijdrage'!C:C),0) -> 0 | D54: =IFERROR(_xlfn.XLOOKUP(B9,' cash bijdrage'!B:B,' cash bijdrage'!D:D),0) -> 0 | E54: =IFERROR(_xlfn.XLOOKUP(B9,' cash bijdrage'!B:B,' cash bijdrage'!E:E),0) -> 0 | F54: =SUM(C54:E54) -> 0 | H54: *De cash bijdrage worden berekend vanuit het tabblad cash bijdrage.
A55: in kind | F55: =SUM(C55:E55) -> 0
A56: Totaal | C56: =SUM(C53:C55) -> 0 | D56: =SUM(D53:D55) -> 0 | E56: =SUM(E53:E55) -> 0 | F56: =SUM(F53:F55) -> 0
A57: * Betreft cash bijdrage(n) van consortiumpartners; deze moet tevens zijn opgenomen in tabblad 'cash bijdrage'.
A58: Eigen bijdrage partner (financiering die niet meetelt in de verhoudingen publiek privaat)
C59: =C13 -> 2027 | D59: =D13 -> 2028 | E59: =E13 -> 2029 | F59: =F13 -> Totaal
A60: Eigen bijdrage | F60: =SUM(C60:E60) -> 0
A61: Totale financiering | C61: =C56+C60 -> 0 | D61: =D56+D60 -> 0 | E61: =E56+E60 -> 0 | F61: =F56+F60 -> 0 | H61: =IF(F48=F61,"Akkoord","kosten en financiering zijn niet aan elkaar gelijk") -> Akkoord
H62: =IF(F53=0, "", IF(C9="MKB (midden en klein bedrijf)", IF(F53/F48<=60%, "✓ PPS-subsidie bedraagt "&TEXT(F53/F48,"0,0%")&" van de kosten (maximum 60%)", "✗ PPS-subsidie bedraagt "&TEXT(F53/F48,"0,0%")&" van de kosten (maximum 60%)"), IF(C9="onderzoeksorganisatie, publiek", IF(F53/F48<=80%, "✓ PPS-subsidie bedraagt "&TEXT(F53/F48,"0,0%")&" van de kosten (maximum 80%)", "✗ PPS-subsidie bedraagt "&TEXT(F53/F48,"0,0%")&" van de kosten (maximum 80%)"), IF(C9="onderzoeksorganisatie, privaat", IF(F53/F48<=80%, "✓ PPS-subsidie bedraagt "&TEXT(F53/F48,"0,0%")&" van de kosten (maximum 80%)", "✗ PPS-subsidie bedraagt "&TEXT(F53/F48,"0,0%")&" van de kosten (maximum 80%)"), IF(C9="innovatieve onderneming", IF(F53/F48<=50%, "✓ PPS-subsidie bedraagt "&TEXT(F53/F48,"0,0%")&" van de kosten (maximum 50%)", "✗ PPS-subsidie bedraagt "&TEXT(F53/F48,"0,0%")&" van de kosten (maximum 50%)"), "✗ Dit type deelnemer komt niet in aanmerking voor PPS-subsidie")))))

Sheet  kosten partner 9
A1: Projectcode: | B1: =IF(deelnemers!B2="invullen als beschikbaar", "wordt overgenomen uit tabblad deelnemers",deelnemers!B2) -> wordt overgenomen uit tabblad deelnemers | F1: =IF(C9="MKB (midden en klein bedrijf)",F53,0) -> 0
A2: Projecttitel: | B2: =kostenoverzicht!B2 -> 0
A4: Kosten
A5: In deze tabel vult u de projectkosten in per partner in €, maak onderscheid in personeel, afschrijving en overige kosten
A6: U vult alleen de witte vakken in. Wilt u rijen toevoegen dan graag op de laatse regel van de categorie gaan staan en een regel erboven toevoegen
A7: Let op dat de oranje balk is ingevuld met TYPE Organisatie in het deelnemers tabblad.
H8: =IF(C9=deelnemers!AI26,"U moet type organisatie invullen in de deelnemerssheet"," ") -> U moet type organisatie invullen in de deelnemerssheet
A9: =deelnemers!A24 -> partner 9 | B9: =deelnemers!B24 -> 0 | C9: =deelnemers!C24 -> 0 | F9: =deelnemers!G24 -> 0 | H9: =IF(C9=deelnemers!AJ20,"Indien PPS toeslag wordt aangevraagd MKB verklaring meesturen"," ") | W9: subsidie aanvrager
W10: ja
C12: =IF(deelnemers!F15="Nee","Kosten in € Inclusief BTW","Kosten in € EXCLUSIEF BTW") -> Kosten in € EXCLUSIEF BTW | W12: nee
C13: =kostenoverzicht!B9 -> 2027 | D13: =kostenoverzicht!C9 -> 2028 | E13: =kostenoverzicht!D9 -> 2029 | F13: Totaal
A14: Personeelskosten | C14: in €
A15: schaal | B15: functie | C15: kosten | D15: kosten | E15: kosten | F15: totaal
F16: =SUM(C16:E16) -> 0
F17: =SUM(C17:E17) -> 0
F18: =SUM(C18:E18) -> 0
F19: =SUM(C19:E19) -> 0
F20: =SUM(C20:E20) -> 0
F21: =SUM(C21:E21) -> 0
F22: =SUM(C22:E22) -> 0
F23: =SUM(C23:E23) -> 0
F24: =SUM(C24:E24) -> 0
A25: Totaal personeel | C25: =SUM(C16:C24) -> 0 | D25: =SUM(D16:D24) -> 0 | E25: =SUM(E16:E24) -> 0 | F25: =SUM(F16:F24) -> 0
A26: Investeringen op basis van afschrijving en directe relatie met project
A27: Omschrijving | C27: =C13 -> 2027 | D27: =D13 -> 2028 | E27: =E13 -> 2029 | F27: totaal
F28: =SUM(C28:E28) -> 0
F29: =SUM(C29:E29) -> 0
F30: =SUM(C30:E30) -> 0
A31: Totaal investeringen | C31: =SUM(C28:C30) -> 0 | D31: =SUM(D28:D30) -> 0 | E31: =SUM(E28:E30) -> 0 | F31: =SUM(F28:F30) -> 0
A32: Overige kosten
A33: Omschrijving | C33: =C27 -> 2027 | D33: =D27 -> 2028 | E33: =E27 -> 2029 | F33: =F27 -> totaal
F34: =SUM(C34:E34) -> 0
F35: =SUM(C35:E35) -> 0
F36: =SUM(C36:E36) -> 0
F37: =SUM(C37:E37) -> 0
F38: =SUM(C38:E38) -> 0
F39: =SUM(C39:E39) -> 0
F40: =SUM(C40:E40) -> 0
F41: =SUM(C41:E41) -> 0
F42: =SUM(C42:E42) -> 0
F43: =SUM(C43:E43) -> 0
F44: =SUM(C44:E44) -> 0
F45: =SUM(C45:E45) -> 0
A46: Totaal overige kosten | C46: =SUM(C34:C45) -> 0 | D46: =SUM(D34:D45) -> 0 | E46: =SUM(E34:E45) -> 0 | F46: =SUM(F34:F45) -> 0
A48: Totale kosten | C48: =C25+C31+C46 -> 0 | D48: =D25+D31+D46 -> 0 | E48: =E25+E31+E46 -> 0 | F48: =SUM(F25+F31+F46) -> 0
A51: Financiering van de kosten
C52: =C33 -> 2027 | D52: =D33 -> 2028 | E52: =E33 -> 2029 | F52: =F33 -> totaal
A53: PPS subsidie | F53: =SUM(C53:E53) -> 0
A54: cash* | C54: =IFERROR(_xlfn.XLOOKUP(B9,' cash bijdrage'!B:B,' cash bijdrage'!C:C),0) -> 0 | D54: =IFERROR(_xlfn.XLOOKUP(B9,' cash bijdrage'!B:B,' cash bijdrage'!D:D),0) -> 0 | E54: =IFERROR(_xlfn.XLOOKUP(B9,' cash bijdrage'!B:B,' cash bijdrage'!E:E),0) -> 0 | F54: =SUM(C54:E54) -> 0 | H54: *De cash bijdrage worden berekend vanuit het tabblad cash bijdrage.
A55: in kind | F55: =SUM(C55:E55) -> 0
A56: Totaal | C56: =SUM(C53:C55) -> 0 | D56: =SUM(D53:D55) -> 0 | E56: =SUM(E53:E55) -> 0 | F56: =SUM(F53:F55) -> 0
A57: * Betreft cash bijdrage(n) van consortiumpartners; deze moet tevens zijn opgenomen in tabblad 'cash bijdrage'.
A58: Eigen bijdrage partner (financiering die niet meetelt in de verhoudingen publiek privaat)
C59: =C13 -> 2027 | D59: =D13 -> 2028 | E59: =E13 -> 2029 | F59: =F13 -> Totaal
A60: Eigen bijdrage | F60: =SUM(C60:E60) -> 0
A61: Totale financiering | C61: =C56+C60 -> 0 | D61: =D56+D60 -> 0 | E61: =E56+E60 -> 0 | F61: =F56+F60 -> 0 | H61: =IF(F48=F61,"Akkoord","kosten en financiering zijn niet aan elkaar gelijk") -> Akkoord
H62: =IF(F53=0, "", IF(C9="MKB (midden en klein bedrijf)", IF(F53/F48<=60%, "✓ PPS-subsidie bedraagt "&TEXT(F53/F48,"0,0%")&" van de kosten (maximum 60%)", "✗ PPS-subsidie bedraagt "&TEXT(F53/F48,"0,0%")&" van de kosten (maximum 60%)"), IF(C9="onderzoeksorganisatie, publiek", IF(F53/F48<=80%, "✓ PPS-subsidie bedraagt "&TEXT(F53/F48,"0,0%")&" van de kosten (maximum 80%)", "✗ PPS-subsidie bedraagt "&TEXT(F53/F48,"0,0%")&" van de kosten (maximum 80%)"), IF(C9="onderzoeksorganisatie, privaat", IF(F53/F48<=80%, "✓ PPS-subsidie bedraagt "&TEXT(F53/F48,"0,0%")&" van de kosten (maximum 80%)", "✗ PPS-subsidie bedraagt "&TEXT(F53/F48,"0,0%")&" van de kosten (maximum 80%)"), IF(C9="innovatieve onderneming", IF(F53/F48<=50%, "✓ PPS-subsidie bedraagt "&TEXT(F53/F48,"0,0%")&" van de kosten (maximum 50%)", "✗ PPS-subsidie bedraagt "&TEXT(F53/F48,"0,0%")&" van de kosten (maximum 50%)"), "✗ Dit type deelnemer komt niet in aanmerking voor PPS-subsidie")))))

Sheet  kosten partner 10
A1: Projectcode: | B1: =IF(deelnemers!B2="invullen als beschikbaar", "wordt overgenomen uit tabblad deelnemers",deelnemers!B2) -> wordt overgenomen uit tabblad deelnemers | F1: =IF(C9="MKB (midden en klein bedrijf)",F53,0) -> 0
A2: Projecttitel: | B2: =kostenoverzicht!B2 -> 0
A4: Kosten
A5: In deze tabel vult u de projectkosten in per partner in €, maak onderscheid in personeel, afschrijving en overige kosten
A6: U vult alleen de witte vakken in. Wilt u rijen toevoegen dan graag op de laatse regel van de categorie gaan staan en een regel erboven toevoegen
A7: Let op dat de oranje balk is ingevuld met TYPE Organisatie in het deelnemers tabblad.
H8: =IF(C9=deelnemers!AI26,"U moet type organisatie invullen in de deelnemerssheet"," ") -> U moet type organisatie invullen in de deelnemerssheet
A9: =deelnemers!A25 -> partner 10 | B9: =deelnemers!B25 -> 0 | C9: =deelnemers!C25 -> 0 | F9: =deelnemers!G25 -> 0 | H9: =IF(C9=deelnemers!AJ20,"Indien PPS toeslag wordt aangevraagd MKB verklaring meesturen"," ") | W9: subsidie aanvrager
W10: ja
C12: =IF(deelnemers!F15="Nee","Kosten in € Inclusief BTW","Kosten in € EXCLUSIEF BTW") -> Kosten in € EXCLUSIEF BTW | W12: nee
C13: =kostenoverzicht!B9 -> 2027 | D13: =kostenoverzicht!C9 -> 2028 | E13: =kostenoverzicht!D9 -> 2029 | F13: Totaal
A14: Personeelskosten | C14: in €
A15: schaal | B15: functie | C15: kosten | D15: kosten | E15: kosten | F15: totaal
F16: =SUM(C16:E16) -> 0
F17: =SUM(C17:E17) -> 0
F18: =SUM(C18:E18) -> 0
F19: =SUM(C19:E19) -> 0
F20: =SUM(C20:E20) -> 0
F21: =SUM(C21:E21) -> 0
F22: =SUM(C22:E22) -> 0
F23: =SUM(C23:E23) -> 0
F24: =SUM(C24:E24) -> 0
A25: Totaal personeel | C25: =SUM(C16:C24) -> 0 | D25: =SUM(D16:D24) -> 0 | E25: =SUM(E16:E24) -> 0 | F25: =SUM(F16:F24) -> 0
A26: Investeringen op basis van afschrijving en directe relatie met project
A27: Omschrijving | C27: =C13 -> 2027 | D27: =D13 -> 2028 | E27: =E13 -> 2029 | F27: totaal
F28: =SUM(C28:E28) -> 0
F29: =SUM(C29:E29) -> 0
F30: =SUM(C30:E30) -> 0
A31: Totaal investeringen | C31: =SUM(C28:C30) -> 0 | D31: =SUM(D28:D30) -> 0 | E31: =SUM(E28:E30) -> 0 | F31: =SUM(F28:F30) -> 0
A32: Overige kosten
A33: Omschrijving | C33: =C27 -> 2027 | D33: =D27 -> 2028 | E33: =E27 -> 2029 | F33: =F27 -> totaal
F34: =SUM(C34:E34) -> 0
F35: =SUM(C35:E35) -> 0
F36: =SUM(C36:E36) -> 0
F37: =SUM(C37:E37) -> 0
F38: =SUM(C38:E38) -> 0
F39: =SUM(C39:E39) -> 0
F40: =SUM(C40:E40) -> 0
F41: =SUM(C41:E41) -> 0
F42: =SUM(C42:E42) -> 0
F43: =SUM(C43:E43) -> 0
F44: =SUM(C44:E44) -> 0
F45: =SUM(C45:E45) -> 0
A46: Totaal overige kosten | C46: =SUM(C34:C45) -> 0 | D46: =SUM(D34:D45) -> 0 | E46: =SUM(E34:E45) -> 0 | F46: =SUM(F34:F45) -> 0
A48: Totale kosten | C48: =C25+C31+C46 -> 0 | D48: =D25+D31+D46 -> 0 | E48: =E25+E31+E46 -> 0 | F48: =SUM(F25+F31+F46) -> 0
A51: Financiering van de kosten
C52: =C33 -> 2027 | D52: =D33 -> 2028 | E52: =E33 -> 2029 | F52: =F33 -> totaal
A53: PPS subsidie | F53: =SUM(C53:E53) -> 0
A54: cash* | C54: =IFERROR(_xlfn.XLOOKUP(B9,' cash bijdrage'!B:B,' cash bijdrage'!C:C),0) -> 0 | D54: =IFERROR(_xlfn.XLOOKUP(B9,' cash bijdrage'!B:B,' cash bijdrage'!D:D),0) -> 0 | E54: =IFERROR(_xlfn.XLOOKUP(B9,' cash bijdrage'!B:B,' cash bijdrage'!E:E),0) -> 0 | F54: =SUM(C54:E54) -> 0 | H54: *De cash bijdrage worden berekend vanuit het tabblad cash bijdrage.
A55: in kind | F55: =SUM(C55:E55) -> 0
A56: Totaal | C56: =SUM(C53:C55) -> 0 | D56: =SUM(D53:D55) -> 0 | E56: =SUM(E53:E55) -> 0 | F56: =SUM(F53:F55) -> 0
A57: * Betreft cash bijdrage(n) van consortiumpartners; deze moet tevens zijn opgenomen in tabblad 'cash bijdrage'.
A58: Eigen bijdrage partner (financiering die niet meetelt in de verhoudingen publiek privaat)
C59: =C13 -> 2027 | D59: =D13 -> 2028 | E59: =E13 -> 2029 | F59: =F13 -> Totaal
A60: Eigen bijdrage | F60: =SUM(C60:E60) -> 0
A61: Totale financiering | C61: =C56+C60 -> 0 | D61: =D56+D60 -> 0 | E61: =E56+E60 -> 0 | F61: =F56+F60 -> 0 | H61: =IF(F48=F61,"Akkoord","kosten en financiering zijn niet aan elkaar gelijk") -> Akkoord
H62: =IF(F53=0, "", IF(C9="MKB (midden en klein bedrijf)", IF(F53/F48<=60%, "✓ PPS-subsidie bedraagt "&TEXT(F53/F48,"0,0%")&" van de kosten (maximum 60%)", "✗ PPS-subsidie bedraagt "&TEXT(F53/F48,"0,0%")&" van de kosten (maximum 60%)"), IF(C9="onderzoeksorganisatie, publiek", IF(F53/F48<=80%, "✓ PPS-subsidie bedraagt "&TEXT(F53/F48,"0,0%")&" van de kosten (maximum 80%)", "✗ PPS-subsidie bedraagt "&TEXT(F53/F48,"0,0%")&" van de kosten (maximum 80%)"), IF(C9="onderzoeksorganisatie, privaat", IF(F53/F48<=80%, "✓ PPS-subsidie bedraagt "&TEXT(F53/F48,"0,0%")&" van de kosten (maximum 80%)", "✗ PPS-subsidie bedraagt "&TEXT(F53/F48,"0,0%")&" van de kosten (maximum 80%)"), IF(C9="innovatieve onderneming", IF(F53/F48<=50%, "✓ PPS-subsidie bedraagt "&TEXT(F53/F48,"0,0%")&" van de kosten (maximum 50%)", "✗ PPS-subsidie bedraagt "&TEXT(F53/F48,"0,0%")&" van de kosten (maximum 50%)"), "✗ Dit type deelnemer komt niet in aanmerking voor PPS-subsidie")))))

Sheet kosten partner 11
A1: Projectcode: | B1: =IF(deelnemers!B2="invullen als beschikbaar", "wordt overgenomen uit tabblad deelnemers",deelnemers!B2) -> wordt overgenomen uit tabblad deelnemers | F1: =IF(C9="MKB (midden en klein bedrijf)",F53,0) -> 0
A2: Projecttitel: | B2: =kostenoverzicht!B2 -> 0
A4: Kosten
A5: In deze tabel vult u de projectkosten in per partner in €, maak onderscheid in personeel, afschrijving en overige kosten
A6: U vult alleen de witte vakken in. Wilt u rijen toevoegen dan graag op de laatse regel van de categorie gaan staan en een regel erboven toevoegen
A7: Let op dat de oranje balk is ingevuld met TYPE Organisatie in het deelnemers tabblad.
H8: =IF(C9=deelnemers!AI26,"U moet type organisatie invullen in de deelnemerssheet"," ") -> U moet type organisatie invullen in de deelnemerssheet
A9: =deelnemers!A26 -> partner 11 | B9: =deelnemers!B26 -> 0 | C9: =deelnemers!C26 -> 0 | F9: =deelnemers!G26 -> 0 | H9: =IF(C9=deelnemers!AJ20,"Indien PPS toeslag wordt aangevraagd MKB verklaring meesturen"," ") | W9: subsidie aanvrager
W10: ja
C12: =IF(deelnemers!F15="Nee","Kosten in € Inclusief BTW","Kosten in € EXCLUSIEF BTW") -> Kosten in € EXCLUSIEF BTW | W12: nee
C13: =kostenoverzicht!B9 -> 2027 | D13: =kostenoverzicht!C9 -> 2028 | E13: =kostenoverzicht!D9 -> 2029 | F13: Totaal
A14: Personeelskosten | C14: in €
A15: schaal | B15: functie | C15: kosten | D15: kosten | E15: kosten | F15: totaal
F16: =SUM(C16:E16) -> 0
F17: =SUM(C17:E17) -> 0
F18: =SUM(C18:E18) -> 0
F19: =SUM(C19:E19) -> 0
F20: =SUM(C20:E20) -> 0
F21: =SUM(C21:E21) -> 0
F22: =SUM(C22:E22) -> 0
F23: =SUM(C23:E23) -> 0
F24: =SUM(C24:E24) -> 0
A25: Totaal personeel | C25: =SUM(C16:C24) -> 0 | D25: =SUM(D16:D24) -> 0 | E25: =SUM(E16:E24) -> 0 | F25: =SUM(F16:F24) -> 0
A26: Investeringen op basis van afschrijving en directe relatie met project
A27: Omschrijving | C27: =C13 -> 2027 | D27: =D13 -> 2028 | E27: =E13 -> 2029 | F27: totaal
F28: =SUM(C28:E28) -> 0
F29: =SUM(C29:E29) -> 0
F30: =SUM(C30:E30) -> 0
A31: Totaal investeringen | C31: =SUM(C28:C30) -> 0 | D31: =SUM(D28:D30) -> 0 | E31: =SUM(E28:E30) -> 0 | F31: =SUM(F28:F30) -> 0
A32: Overige kosten
A33: Omschrijving | C33: =C27 -> 2027 | D33: =D27 -> 2028 | E33: =E27 -> 2029 | F33: =F27 -> totaal
F34: =SUM(C34:E34) -> 0
F35: =SUM(C35:E35) -> 0
F36: =SUM(C36:E36) -> 0
F37: =SUM(C37:E37) -> 0
F38: =SUM(C38:E38) -> 0
F39: =SUM(C39:E39) -> 0
F40: =SUM(C40:E40) -> 0
F41: =SUM(C41:E41) -> 0
F42: =SUM(C42:E42) -> 0
F43: =SUM(C43:E43) -> 0
F44: =SUM(C44:E44) -> 0
F45: =SUM(C45:E45) -> 0
A46: Totaal overige kosten | C46: =SUM(C34:C45) -> 0 | D46: =SUM(D34:D45) -> 0 | E46: =SUM(E34:E45) -> 0 | F46: =SUM(F34:F45) -> 0
A48: Totale kosten | C48: =C25+C31+C46 -> 0 | D48: =D25+D31+D46 -> 0 | E48: =E25+E31+E46 -> 0 | F48: =SUM(F25+F31+F46) -> 0
A51: Financiering van de kosten
C52: =C33 -> 2027 | D52: =D33 -> 2028 | E52: =E33 -> 2029 | F52: =F33 -> totaal
A53: PPS subsidie | F53: =SUM(C53:E53) -> 0
A54: cash* | C54: =IFERROR(_xlfn.XLOOKUP(B9,' cash bijdrage'!B:B,' cash bijdrage'!C:C),0) -> 0 | D54: =IFERROR(_xlfn.XLOOKUP(B9,' cash bijdrage'!B:B,' cash bijdrage'!D:D),0) -> 0 | E54: =IFERROR(_xlfn.XLOOKUP(B9,' cash bijdrage'!B:B,' cash bijdrage'!E:E),0) -> 0 | F54: =SUM(C54:E54) -> 0 | H54: *De cash bijdrage worden berekend vanuit het tabblad cash bijdrage.
A55: in kind | F55: =SUM(C55:E55) -> 0
A56: Totaal | C56: =SUM(C53:C55) -> 0 | D56: =SUM(D53:D55) -> 0 | E56: =SUM(E53:E55) -> 0 | F56: =SUM(F53:F55) -> 0
A57: * Betreft cash bijdrage(n) van consortiumpartners; deze moet tevens zijn opgenomen in tabblad 'cash bijdrage'.
A58: Eigen bijdrage partner (financiering die niet meetelt in de verhoudingen publiek privaat)
C59: =C13 -> 2027 | D59: =D13 -> 2028 | E59: =E13 -> 2029 | F59: =F13 -> Totaal
A60: Eigen bijdrage | F60: =SUM(C60:E60) -> 0
A61: Totale financiering | C61: =C56+C60 -> 0 | D61: =D56+D60 -> 0 | E61: =E56+E60 -> 0 | F61: =F56+F60 -> 0 | H61: =IF(F48=F61,"Akkoord","kosten en financiering zijn niet aan elkaar gelijk") -> Akkoord
H62: =IF(F53=0, "", IF(C9="MKB (midden en klein bedrijf)", IF(F53/F48<=60%, "✓ PPS-subsidie bedraagt "&TEXT(F53/F48,"0,0%")&" van de kosten (maximum 60%)", "✗ PPS-subsidie bedraagt "&TEXT(F53/F48,"0,0%")&" van de kosten (maximum 60%)"), IF(C9="onderzoeksorganisatie, publiek", IF(F53/F48<=80%, "✓ PPS-subsidie bedraagt "&TEXT(F53/F48,"0,0%")&" van de kosten (maximum 80%)", "✗ PPS-subsidie bedraagt "&TEXT(F53/F48,"0,0%")&" van de kosten (maximum 80%)"), IF(C9="onderzoeksorganisatie, privaat", IF(F53/F48<=80%, "✓ PPS-subsidie bedraagt "&TEXT(F53/F48,"0,0%")&" van de kosten (maximum 80%)", "✗ PPS-subsidie bedraagt "&TEXT(F53/F48,"0,0%")&" van de kosten (maximum 80%)"), IF(C9="innovatieve onderneming", IF(F53/F48<=50%, "✓ PPS-subsidie bedraagt "&TEXT(F53/F48,"0,0%")&" van de kosten (maximum 50%)", "✗ PPS-subsidie bedraagt "&TEXT(F53/F48,"0,0%")&" van de kosten (maximum 50%)"), "✗ Dit type deelnemer komt niet in aanmerking voor PPS-subsidie")))))

Sheet kosten partner 12
A1: Projectcode: | B1: =IF(deelnemers!B2="invullen als beschikbaar", "wordt overgenomen uit tabblad deelnemers",deelnemers!B2) -> wordt overgenomen uit tabblad deelnemers | F1: =IF(C9="MKB (midden en klein bedrijf)",F53,0) -> 0
A2: Projecttitel: | B2: =kostenoverzicht!B2 -> 0
A4: Kosten
A5: In deze tabel vult u de projectkosten in per partner in €, maak onderscheid in personeel, afschrijving en overige kosten
A6: U vult alleen de witte vakken in. Wilt u rijen toevoegen dan graag op de laatse regel van de categorie gaan staan en een regel erboven toevoegen
A7: Let op dat de oranje balk is ingevuld met TYPE Organisatie in het deelnemers tabblad.
H8: =IF(C9=deelnemers!AI26,"U moet type organisatie invullen in de deelnemerssheet"," ") -> U moet type organisatie invullen in de deelnemerssheet
A9: =deelnemers!A27 -> partner 12 | B9: =deelnemers!B27 -> 0 | C9: =deelnemers!C27 -> 0 | F9: =deelnemers!G27 -> 0 | H9: =IF(C9=deelnemers!AJ20,"Indien PPS toeslag wordt aangevraagd MKB verklaring meesturen"," ") | W9: subsidie aanvrager
W10: ja
C12: =IF(deelnemers!F15="Nee","Kosten in € Inclusief BTW","Kosten in € EXCLUSIEF BTW") -> Kosten in € EXCLUSIEF BTW | W12: nee
C13: =kostenoverzicht!B9 -> 2027 | D13: =kostenoverzicht!C9 -> 2028 | E13: =kostenoverzicht!D9 -> 2029 | F13: Totaal
A14: Personeelskosten | C14: in €
A15: schaal | B15: functie | C15: kosten | D15: kosten | E15: kosten | F15: totaal
F16: =SUM(C16:E16) -> 0
F17: =SUM(C17:E17) -> 0
F18: =SUM(C18:E18) -> 0
F19: =SUM(C19:E19) -> 0
F20: =SUM(C20:E20) -> 0
F21: =SUM(C21:E21) -> 0
F22: =SUM(C22:E22) -> 0
F23: =SUM(C23:E23) -> 0
F24: =SUM(C24:E24) -> 0
A25: Totaal personeel | C25: =SUM(C16:C24) -> 0 | D25: =SUM(D16:D24) -> 0 | E25: =SUM(E16:E24) -> 0 | F25: =SUM(F16:F24) -> 0
A26: Investeringen op basis van afschrijving en directe relatie met project
A27: Omschrijving | C27: =C13 -> 2027 | D27: =D13 -> 2028 | E27: =E13 -> 2029 | F27: totaal
F28: =SUM(C28:E28) -> 0
F29: =SUM(C29:E29) -> 0
F30: =SUM(C30:E30) -> 0
A31: Totaal investeringen | C31: =SUM(C28:C30) -> 0 | D31: =SUM(D28:D30) -> 0 | E31: =SUM(E28:E30) -> 0 | F31: =SUM(F28:F30) -> 0
A32: Overige kosten
A33: Omschrijving | C33: =C27 -> 2027 | D33: =D27 -> 2028 | E33: =E27 -> 2029 | F33: =F27 -> totaal
F34: =SUM(C34:E34) -> 0
F35: =SUM(C35:E35) -> 0
F36: =SUM(C36:E36) -> 0
F37: =SUM(C37:E37) -> 0
F38: =SUM(C38:E38) -> 0
F39: =SUM(C39:E39) -> 0
F40: =SUM(C40:E40) -> 0
F41: =SUM(C41:E41) -> 0
F42: =SUM(C42:E42) -> 0
F43: =SUM(C43:E43) -> 0
F44: =SUM(C44:E44) -> 0
F45: =SUM(C45:E45) -> 0
A46: Totaal overige kosten | C46: =SUM(C34:C45) -> 0 | D46: =SUM(D34:D45) -> 0 | E46: =SUM(E34:E45) -> 0 | F46: =SUM(F34:F45) -> 0
A48: Totale kosten | C48: =C25+C31+C46 -> 0 | D48: =D25+D31+D46 -> 0 | E48: =E25+E31+E46 -> 0 | F48: =SUM(F25+F31+F46) -> 0
A51: Financiering van de kosten
C52: =C33 -> 2027 | D52: =D33 -> 2028 | E52: =E33 -> 2029 | F52: =F33 -> totaal
A53: PPS subsidie | F53: =SUM(C53:E53) -> 0
A54: cash* | C54: =IFERROR(_xlfn.XLOOKUP(B9,' cash bijdrage'!B:B,' cash bijdrage'!C:C),0) -> 0 | D54: =IFERROR(_xlfn.XLOOKUP(B9,' cash bijdrage'!B:B,' cash bijdrage'!D:D),0) -> 0 | E54: =IFERROR(_xlfn.XLOOKUP(B9,' cash bijdrage'!B:B,' cash bijdrage'!E:E),0) -> 0 | F54: =SUM(C54:E54) -> 0 | H54: *De cash bijdrage worden berekend vanuit het tabblad cash bijdrage.
A55: in kind | F55: =SUM(C55:E55) -> 0
A56: Totaal | C56: =SUM(C53:C55) -> 0 | D56: =SUM(D53:D55) -> 0 | E56: =SUM(E53:E55) -> 0 | F56: =SUM(F53:F55) -> 0
A57: * Betreft cash bijdrage(n) van consortiumpartners; deze moet tevens zijn opgenomen in tabblad 'cash bijdrage'.
A58: Eigen bijdrage partner (financiering die niet meetelt in de verhoudingen publiek privaat)
C59: =C13 -> 2027 | D59: =D13 -> 2028 | E59: =E13 -> 2029 | F59: =F13 -> Totaal
A60: Eigen bijdrage | F60: =SUM(C60:E60) -> 0
A61: Totale financiering | C61: =C56+C60 -> 0 | D61: =D56+D60 -> 0 | E61: =E56+E60 -> 0 | F61: =F56+F60 -> 0 | H61: =IF(F48=F61,"Akkoord","kosten en financiering zijn niet aan elkaar gelijk") -> Akkoord
H62: =IF(F53=0, "", IF(C9="MKB (midden en klein bedrijf)", IF(F53/F48<=60%, "✓ PPS-subsidie bedraagt "&TEXT(F53/F48,"0,0%")&" van de kosten (maximum 60%)", "✗ PPS-subsidie bedraagt "&TEXT(F53/F48,"0,0%")&" van de kosten (maximum 60%)"), IF(C9="onderzoeksorganisatie, publiek", IF(F53/F48<=80%, "✓ PPS-subsidie bedraagt "&TEXT(F53/F48,"0,0%")&" van de kosten (maximum 80%)", "✗ PPS-subsidie bedraagt "&TEXT(F53/F48,"0,0%")&" van de kosten (maximum 80%)"), IF(C9="onderzoeksorganisatie, privaat", IF(F53/F48<=80%, "✓ PPS-subsidie bedraagt "&TEXT(F53/F48,"0,0%")&" van de kosten (maximum 80%)", "✗ PPS-subsidie bedraagt "&TEXT(F53/F48,"0,0%")&" van de kosten (maximum 80%)"), IF(C9="innovatieve onderneming", IF(F53/F48<=50%, "✓ PPS-subsidie bedraagt "&TEXT(F53/F48,"0,0%")&" van de kosten (maximum 50%)", "✗ PPS-subsidie bedraagt "&TEXT(F53/F48,"0,0%")&" van de kosten (maximum 50%)"), "✗ Dit type deelnemer komt niet in aanmerking voor PPS-subsidie")))))

Sheet kosten partner 13
A1: Projectcode: | B1: =IF(deelnemers!B2="invullen als beschikbaar", "wordt overgenomen uit tabblad deelnemers",deelnemers!B2) -> wordt overgenomen uit tabblad deelnemers | F1: =IF(C9="MKB (midden en klein bedrijf)",F53,0) -> 0
A2: Projecttitel: | B2: =kostenoverzicht!B2 -> 0
A4: Kosten
A5: In deze tabel vult u de projectkosten in per partner in €, maak onderscheid in personeel, afschrijving en overige kosten
A6: U vult alleen de witte vakken in. Wilt u rijen toevoegen dan graag op de laatse regel van de categorie gaan staan en een regel erboven toevoegen
A7: Let op dat de oranje balk is ingevuld met TYPE Organisatie in het deelnemers tabblad.
H8: =IF(C9=deelnemers!AI26,"U moet type organisatie invullen in de deelnemerssheet"," ") -> U moet type organisatie invullen in de deelnemerssheet
A9: =deelnemers!A28 -> partner 13 | B9: =deelnemers!B28 -> 0 | C9: =deelnemers!C28 -> 0 | F9: =deelnemers!G28 -> 0 | H9: =IF(C9=deelnemers!AJ20,"Indien PPS toeslag wordt aangevraagd MKB verklaring meesturen"," ") | W9: subsidie aanvrager
W10: ja
C12: =IF(deelnemers!F15="Nee","Kosten in € Inclusief BTW","Kosten in € EXCLUSIEF BTW") -> Kosten in € EXCLUSIEF BTW | W12: nee
C13: =kostenoverzicht!B9 -> 2027 | D13: =kostenoverzicht!C9 -> 2028 | E13: =kostenoverzicht!D9 -> 2029 | F13: Totaal
A14: Personeelskosten | C14: in €
A15: schaal | B15: functie | C15: kosten | D15: kosten | E15: kosten | F15: totaal
F16: =SUM(C16:E16) -> 0
F17: =SUM(C17:E17) -> 0
F18: =SUM(C18:E18) -> 0
F19: =SUM(C19:E19) -> 0
F20: =SUM(C20:E20) -> 0
F21: =SUM(C21:E21) -> 0
F22: =SUM(C22:E22) -> 0
F23: =SUM(C23:E23) -> 0
F24: =SUM(C24:E24) -> 0
A25: Totaal personeel | C25: =SUM(C16:C24) -> 0 | D25: =SUM(D16:D24) -> 0 | E25: =SUM(E16:E24) -> 0 | F25: =SUM(F16:F24) -> 0
A26: Investeringen op basis van afschrijving en directe relatie met project
A27: Omschrijving | C27: =C13 -> 2027 | D27: =D13 -> 2028 | E27: =E13 -> 2029 | F27: totaal
F28: =SUM(C28:E28) -> 0
F29: =SUM(C29:E29) -> 0
F30: =SUM(C30:E30) -> 0
A31: Totaal investeringen | C31: =SUM(C28:C30) -> 0 | D31: =SUM(D28:D30) -> 0 | E31: =SUM(E28:E30) -> 0 | F31: =SUM(F28:F30) -> 0
A32: Overige kosten
A33: Omschrijving | C33: =C27 -> 2027 | D33: =D27 -> 2028 | E33: =E27 -> 2029 | F33: =F27 -> totaal
F34: =SUM(C34:E34) -> 0
F35: =SUM(C35:E35) -> 0
F36: =SUM(C36:E36) -> 0
F37: =SUM(C37:E37) -> 0
F38: =SUM(C38:E38) -> 0
F39: =SUM(C39:E39) -> 0
F40: =SUM(C40:E40) -> 0
F41: =SUM(C41:E41) -> 0
F42: =SUM(C42:E42) -> 0
F43: =SUM(C43:E43) -> 0
F44: =SUM(C44:E44) -> 0
F45: =SUM(C45:E45) -> 0
A46: Totaal overige kosten | C46: =SUM(C34:C45) -> 0 | D46: =SUM(D34:D45) -> 0 | E46: =SUM(E34:E45) -> 0 | F46: =SUM(F34:F45) -> 0
A48: Totale kosten | C48: =C25+C31+C46 -> 0 | D48: =D25+D31+D46 -> 0 | E48: =E25+E31+E46 -> 0 | F48: =SUM(F25+F31+F46) -> 0
A51: Financiering van de kosten
C52: =C33 -> 2027 | D52: =D33 -> 2028 | E52: =E33 -> 2029 | F52: =F33 -> totaal
A53: PPS subsidie | F53: =SUM(C53:E53) -> 0
A54: cash* | C54: =IFERROR(_xlfn.XLOOKUP(B9,' cash bijdrage'!B:B,' cash bijdrage'!C:C),0) -> 0 | D54: =IFERROR(_xlfn.XLOOKUP(B9,' cash bijdrage'!B:B,' cash bijdrage'!D:D),0) -> 0 | E54: =IFERROR(_xlfn.XLOOKUP(B9,' cash bijdrage'!B:B,' cash bijdrage'!E:E),0) -> 0 | F54: =SUM(C54:E54) -> 0 | H54: *De cash bijdrage worden berekend vanuit het tabblad cash bijdrage.
A55: in kind | F55: =SUM(C55:E55) -> 0
A56: Totaal | C56: =SUM(C53:C55) -> 0 | D56: =SUM(D53:D55) -> 0 | E56: =SUM(E53:E55) -> 0 | F56: =SUM(F53:F55) -> 0
A57: * Betreft cash bijdrage(n) van consortiumpartners; deze moet tevens zijn opgenomen in tabblad 'cash bijdrage'.
A58: Eigen bijdrage partner (financiering die niet meetelt in de verhoudingen publiek privaat)
C59: =C13 -> 2027 | D59: =D13 -> 2028 | E59: =E13 -> 2029 | F59: =F13 -> Totaal
A60: Eigen bijdrage | F60: =SUM(C60:E60) -> 0
A61: Totale financiering | C61: =C56+C60 -> 0 | D61: =D56+D60 -> 0 | E61: =E56+E60 -> 0 | F61: =F56+F60 -> 0 | H61: =IF(F48=F61,"Akkoord","kosten en financiering zijn niet aan elkaar gelijk") -> Akkoord
H62: =IF(F53=0, "", IF(C9="MKB (midden en klein bedrijf)", IF(F53/F48<=60%, "✓ PPS-subsidie bedraagt "&TEXT(F53/F48,"0,0%")&" van de kosten (maximum 60%)", "✗ PPS-subsidie bedraagt "&TEXT(F53/F48,"0,0%")&" van de kosten (maximum 60%)"), IF(C9="onderzoeksorganisatie, publiek", IF(F53/F48<=80%, "✓ PPS-subsidie bedraagt "&TEXT(F53/F48,"0,0%")&" van de kosten (maximum 80%)", "✗ PPS-subsidie bedraagt "&TEXT(F53/F48,"0,0%")&" van de kosten (maximum 80%)"), IF(C9="onderzoeksorganisatie, privaat", IF(F53/F48<=80%, "✓ PPS-subsidie bedraagt "&TEXT(F53/F48,"0,0%")&" van de kosten (maximum 80%)", "✗ PPS-subsidie bedraagt "&TEXT(F53/F48,"0,0%")&" van de kosten (maximum 80%)"), IF(C9="innovatieve onderneming", IF(F53/F48<=50%, "✓ PPS-subsidie bedraagt "&TEXT(F53/F48,"0,0%")&" van de kosten (maximum 50%)", "✗ PPS-subsidie bedraagt "&TEXT(F53/F48,"0,0%")&" van de kosten (maximum 50%)"), "✗ Dit type deelnemer komt niet in aanmerking voor PPS-subsidie")))))

Sheet kosten partner 14
A1: Projectcode: | B1: =IF(deelnemers!B2="invullen als beschikbaar", "wordt overgenomen uit tabblad deelnemers",deelnemers!B2) -> wordt overgenomen uit tabblad deelnemers | F1: =IF(C9="MKB (midden en klein bedrijf)",F53,0) -> 0
A2: Projecttitel: | B2: =kostenoverzicht!B2 -> 0
A4: Kosten
A5: In deze tabel vult u de projectkosten in per partner in €, maak onderscheid in personeel, afschrijving en overige kosten
A6: U vult alleen de witte vakken in. Wilt u rijen toevoegen dan graag op de laatse regel van de categorie gaan staan en een regel erboven toevoegen
A7: Let op dat de oranje balk is ingevuld met TYPE Organisatie in het deelnemers tabblad.
H8: =IF(C9=deelnemers!AI26,"U moet type organisatie invullen in de deelnemerssheet"," ") -> U moet type organisatie invullen in de deelnemerssheet
A9: =deelnemers!A29 -> partner 14 | B9: =deelnemers!B29 -> 0 | C9: =deelnemers!C29 -> 0 | F9: =deelnemers!G29 -> 0 | H9: =IF(C9=deelnemers!AJ20,"Indien PPS toeslag wordt aangevraagd MKB verklaring meesturen"," ") | W9: subsidie aanvrager
W10: ja
C12: =IF(deelnemers!F15="Nee","Kosten in € Inclusief BTW","Kosten in € EXCLUSIEF BTW") -> Kosten in € EXCLUSIEF BTW | W12: nee
C13: =kostenoverzicht!B9 -> 2027 | D13: =kostenoverzicht!C9 -> 2028 | E13: =kostenoverzicht!D9 -> 2029 | F13: Totaal
A14: Personeelskosten | C14: in €
A15: schaal | B15: functie | C15: kosten | D15: kosten | E15: kosten | F15: totaal
F16: =SUM(C16:E16) -> 0
F17: =SUM(C17:E17) -> 0
F18: =SUM(C18:E18) -> 0
F19: =SUM(C19:E19) -> 0
F20: =SUM(C20:E20) -> 0
F21: =SUM(C21:E21) -> 0
F22: =SUM(C22:E22) -> 0
F23: =SUM(C23:E23) -> 0
F24: =SUM(C24:E24) -> 0
A25: Totaal personeel | C25: =SUM(C16:C24) -> 0 | D25: =SUM(D16:D24) -> 0 | E25: =SUM(E16:E24) -> 0 | F25: =SUM(F16:F24) -> 0
A26: Investeringen op basis van afschrijving en directe relatie met project
A27: Omschrijving | C27: =C13 -> 2027 | D27: =D13 -> 2028 | E27: =E13 -> 2029 | F27: totaal
F28: =SUM(C28:E28) -> 0
F29: =SUM(C29:E29) -> 0
F30: =SUM(C30:E30) -> 0
A31: Totaal investeringen | C31: =SUM(C28:C30) -> 0 | D31: =SUM(D28:D30) -> 0 | E31: =SUM(E28:E30) -> 0 | F31: =SUM(F28:F30) -> 0
A32: Overige kosten
A33: Omschrijving | C33: =C27 -> 2027 | D33: =D27 -> 2028 | E33: =E27 -> 2029 | F33: =F27 -> totaal
F34: =SUM(C34:E34) -> 0
F35: =SUM(C35:E35) -> 0
F36: =SUM(C36:E36) -> 0
F37: =SUM(C37:E37) -> 0
F38: =SUM(C38:E38) -> 0
F39: =SUM(C39:E39) -> 0
F40: =SUM(C40:E40) -> 0
F41: =SUM(C41:E41) -> 0
F42: =SUM(C42:E42) -> 0
F43: =SUM(C43:E43) -> 0
F44: =SUM(C44:E44) -> 0
F45: =SUM(C45:E45) -> 0
A46: Totaal overige kosten | C46: =SUM(C34:C45) -> 0 | D46: =SUM(D34:D45) -> 0 | E46: =SUM(E34:E45) -> 0 | F46: =SUM(F34:F45) -> 0
A48: Totale kosten | C48: =C25+C31+C46 -> 0 | D48: =D25+D31+D46 -> 0 | E48: =E25+E31+E46 -> 0 | F48: =SUM(F25+F31+F46) -> 0
A51: Financiering van de kosten
C52: =C33 -> 2027 | D52: =D33 -> 2028 | E52: =E33 -> 2029 | F52: =F33 -> totaal
A53: PPS subsidie | F53: =SUM(C53:E53) -> 0
A54: cash* | C54: =IFERROR(_xlfn.XLOOKUP(B9,' cash bijdrage'!B:B,' cash bijdrage'!C:C),0) -> 0 | D54: =IFERROR(_xlfn.XLOOKUP(B9,' cash bijdrage'!B:B,' cash bijdrage'!D:D),0) -> 0 | E54: =IFERROR(_xlfn.XLOOKUP(B9,' cash bijdrage'!B:B,' cash bijdrage'!E:E),0) -> 0 | F54: =SUM(C54:E54) -> 0 | H54: *De cash bijdrage worden berekend vanuit het tabblad cash bijdrage.
A55: in kind | F55: =SUM(C55:E55) -> 0
A56: Totaal | C56: =SUM(C53:C55) -> 0 | D56: =SUM(D53:D55) -> 0 | E56: =SUM(E53:E55) -> 0 | F56: =SUM(F53:F55) -> 0
A57: * Betreft cash bijdrage(n) van consortiumpartners; deze moet tevens zijn opgenomen in tabblad 'cash bijdrage'.
A58: Eigen bijdrage partner (financiering die niet meetelt in de verhoudingen publiek privaat)
C59: =C13 -> 2027 | D59: =D13 -> 2028 | E59: =E13 -> 2029 | F59: =F13 -> Totaal
A60: Eigen bijdrage | F60: =SUM(C60:E60) -> 0
A61: Totale financiering | C61: =C56+C60 -> 0 | D61: =D56+D60 -> 0 | E61: =E56+E60 -> 0 | F61: =F56+F60 -> 0 | H61: =IF(F48=F61,"Akkoord","kosten en financiering zijn niet aan elkaar gelijk") -> Akkoord
H62: =IF(F53=0, "", IF(C9="MKB (midden en klein bedrijf)", IF(F53/F48<=60%, "✓ PPS-subsidie bedraagt "&TEXT(F53/F48,"0,0%")&" van de kosten (maximum 60%)", "✗ PPS-subsidie bedraagt "&TEXT(F53/F48,"0,0%")&" van de kosten (maximum 60%)"), IF(C9="onderzoeksorganisatie, publiek", IF(F53/F48<=80%, "✓ PPS-subsidie bedraagt "&TEXT(F53/F48,"0,0%")&" van de kosten (maximum 80%)", "✗ PPS-subsidie bedraagt "&TEXT(F53/F48,"0,0%")&" van de kosten (maximum 80%)"), IF(C9="onderzoeksorganisatie, privaat", IF(F53/F48<=80%, "✓ PPS-subsidie bedraagt "&TEXT(F53/F48,"0,0%")&" van de kosten (maximum 80%)", "✗ PPS-subsidie bedraagt "&TEXT(F53/F48,"0,0%")&" van de kosten (maximum 80%)"), IF(C9="innovatieve onderneming", IF(F53/F48<=50%, "✓ PPS-subsidie bedraagt "&TEXT(F53/F48,"0,0%")&" van de kosten (maximum 50%)", "✗ PPS-subsidie bedraagt "&TEXT(F53/F48,"0,0%")&" van de kosten (maximum 50%)"), "✗ Dit type deelnemer komt niet in aanmerking voor PPS-subsidie")))))

Sheet kosten partner 15
A1: Projectcode: | B1: =IF(deelnemers!B2="invullen als beschikbaar", "wordt overgenomen uit tabblad deelnemers",deelnemers!B2) -> wordt overgenomen uit tabblad deelnemers | F1: =IF(C9="MKB (midden en klein bedrijf)",F53,0) -> 0
A2: Projecttitel: | B2: =kostenoverzicht!B2 -> 0
A4: Kosten
A5: In deze tabel vult u de projectkosten in per partner in €, maak onderscheid in personeel, afschrijving en overige kosten
A6: U vult alleen de witte vakken in. Wilt u rijen toevoegen dan graag op de laatse regel van de categorie gaan staan en een regel erboven toevoegen
A7: Let op dat de oranje balk is ingevuld met TYPE Organisatie in het deelnemers tabblad.
H8: =IF(C9=deelnemers!AI26,"U moet type organisatie invullen in de deelnemerssheet"," ") -> U moet type organisatie invullen in de deelnemerssheet
A9: =deelnemers!A30 -> partner 15 | B9: =deelnemers!B30 -> 0 | C9: =deelnemers!C30 -> 0 | F9: =deelnemers!G30 -> 0 | H9: =IF(C9=deelnemers!AJ20,"Indien PPS toeslag wordt aangevraagd MKB verklaring meesturen"," ") | W9: subsidie aanvrager
W10: ja
C12: =IF(deelnemers!F15="Nee","Kosten in € Inclusief BTW","Kosten in € EXCLUSIEF BTW") -> Kosten in € EXCLUSIEF BTW | W12: nee
C13: =kostenoverzicht!B9 -> 2027 | D13: =kostenoverzicht!C9 -> 2028 | E13: =kostenoverzicht!D9 -> 2029 | F13: Totaal
A14: Personeelskosten | C14: in €
A15: schaal | B15: functie | C15: kosten | D15: kosten | E15: kosten | F15: totaal
F16: =SUM(C16:E16) -> 0
F17: =SUM(C17:E17) -> 0
F18: =SUM(C18:E18) -> 0
F19: =SUM(C19:E19) -> 0
F20: =SUM(C20:E20) -> 0
F21: =SUM(C21:E21) -> 0
F22: =SUM(C22:E22) -> 0
F23: =SUM(C23:E23) -> 0
F24: =SUM(C24:E24) -> 0
A25: Totaal personeel | C25: =SUM(C16:C24) -> 0 | D25: =SUM(D16:D24) -> 0 | E25: =SUM(E16:E24) -> 0 | F25: =SUM(F16:F24) -> 0
A26: Investeringen op basis van afschrijving en directe relatie met project
A27: Omschrijving | C27: =C13 -> 2027 | D27: =D13 -> 2028 | E27: =E13 -> 2029 | F27: totaal
F28: =SUM(C28:E28) -> 0
F29: =SUM(C29:E29) -> 0
F30: =SUM(C30:E30) -> 0
A31: Totaal investeringen | C31: =SUM(C28:C30) -> 0 | D31: =SUM(D28:D30) -> 0 | E31: =SUM(E28:E30) -> 0 | F31: =SUM(F28:F30) -> 0
A32: Overige kosten
A33: Omschrijving | C33: =C27 -> 2027 | D33: =D27 -> 2028 | E33: =E27 -> 2029 | F33: =F27 -> totaal
F34: =SUM(C34:E34) -> 0
F35: =SUM(C35:E35) -> 0
F36: =SUM(C36:E36) -> 0
F37: =SUM(C37:E37) -> 0
F38: =SUM(C38:E38) -> 0
F39: =SUM(C39:E39) -> 0
F40: =SUM(C40:E40) -> 0
F41: =SUM(C41:E41) -> 0
F42: =SUM(C42:E42) -> 0
F43: =SUM(C43:E43) -> 0
F44: =SUM(C44:E44) -> 0
F45: =SUM(C45:E45) -> 0
A46: Totaal overige kosten | C46: =SUM(C34:C45) -> 0 | D46: =SUM(D34:D45) -> 0 | E46: =SUM(E34:E45) -> 0 | F46: =SUM(F34:F45) -> 0
A48: Totale kosten | C48: =C25+C31+C46 -> 0 | D48: =D25+D31+D46 -> 0 | E48: =E25+E31+E46 -> 0 | F48: =SUM(F25+F31+F46) -> 0
A51: Financiering van de kosten
C52: =C33 -> 2027 | D52: =D33 -> 2028 | E52: =E33 -> 2029 | F52: =F33 -> totaal
A53: PPS subsidie | F53: =SUM(C53:E53) -> 0
A54: cash* | C54: =IFERROR(_xlfn.XLOOKUP(B9,' cash bijdrage'!B:B,' cash bijdrage'!C:C),0) -> 0 | D54: =IFERROR(_xlfn.XLOOKUP(B9,' cash bijdrage'!B:B,' cash bijdrage'!D:D),0) -> 0 | E54: =IFERROR(_xlfn.XLOOKUP(B9,' cash bijdrage'!B:B,' cash bijdrage'!E:E),0) -> 0 | F54: =SUM(C54:E54) -> 0 | H54: *De cash bijdrage worden berekend vanuit het tabblad cash bijdrage.
A55: in kind | F55: =SUM(C55:E55) -> 0
A56: Totaal | C56: =SUM(C53:C55) -> 0 | D56: =SUM(D53:D55) -> 0 | E56: =SUM(E53:E55) -> 0 | F56: =SUM(F53:F55) -> 0
A57: * Betreft cash bijdrage(n) van consortiumpartners; deze moet tevens zijn opgenomen in tabblad 'cash bijdrage'.
A58: Eigen bijdrage partner (financiering die niet meetelt in de verhoudingen publiek privaat)
C59: =C13 -> 2027 | D59: =D13 -> 2028 | E59: =E13 -> 2029 | F59: =F13 -> Totaal
A60: Eigen bijdrage | F60: =SUM(C60:E60) -> 0
A61: Totale financiering | C61: =C56+C60 -> 0 | D61: =D56+D60 -> 0 | E61: =E56+E60 -> 0 | F61: =F56+F60 -> 0 | H61: =IF(F48=F61,"Akkoord","kosten en financiering zijn niet aan elkaar gelijk") -> Akkoord
H62: =IF(F53=0, "", IF(C9="MKB (midden en klein bedrijf)", IF(F53/F48<=60%, "✓ PPS-subsidie bedraagt "&TEXT(F53/F48,"0,0%")&" van de kosten (maximum 60%)", "✗ PPS-subsidie bedraagt "&TEXT(F53/F48,"0,0%")&" van de kosten (maximum 60%)"), IF(C9="onderzoeksorganisatie, publiek", IF(F53/F48<=80%, "✓ PPS-subsidie bedraagt "&TEXT(F53/F48,"0,0%")&" van de kosten (maximum 80%)", "✗ PPS-subsidie bedraagt "&TEXT(F53/F48,"0,0%")&" van de kosten (maximum 80%)"), IF(C9="onderzoeksorganisatie, privaat", IF(F53/F48<=80%, "✓ PPS-subsidie bedraagt "&TEXT(F53/F48,"0,0%")&" van de kosten (maximum 80%)", "✗ PPS-subsidie bedraagt "&TEXT(F53/F48,"0,0%")&" van de kosten (maximum 80%)"), IF(C9="innovatieve onderneming", IF(F53/F48<=50%, "✓ PPS-subsidie bedraagt "&TEXT(F53/F48,"0,0%")&" van de kosten (maximum 50%)", "✗ PPS-subsidie bedraagt "&TEXT(F53/F48,"0,0%")&" van de kosten (maximum 50%)"), "✗ Dit type deelnemer komt niet in aanmerking voor PPS-subsidie")))))

Sheet Eindblad totalen
D4: DIT BLAD LEEG LATEN
